BEGIN:VCALENDAR
VERSION:2.0
PRODID:-//Nanaimo Brain Injury Society - ECPv6.15.20//NONSGML v1.0//EN
CALSCALE:GREGORIAN
METHOD:PUBLISH
X-WR-CALNAME:Nanaimo Brain Injury Society
X-ORIGINAL-URL:https://nbis.ca
X-WR-CALDESC:Events for Nanaimo Brain Injury Society
REFRESH-INTERVAL;VALUE=DURATION:PT1H
X-Robots-Tag:noindex
X-PUBLISHED-TTL:PT1H
BEGIN:VTIMEZONE
TZID:America/Vancouver
BEGIN:DAYLIGHT
TZOFFSETFROM:-0800
TZOFFSETTO:-0700
TZNAME:PDT
DTSTART:20250309T100000
END:DAYLIGHT
BEGIN:STANDARD
TZOFFSETFROM:-0700
TZOFFSETTO:-0800
TZNAME:PST
DTSTART:20251102T090000
END:STANDARD
BEGIN:DAYLIGHT
TZOFFSETFROM:-0800
TZOFFSETTO:-0700
TZNAME:PDT
DTSTART:20260308T100000
END:DAYLIGHT
BEGIN:STANDARD
TZOFFSETFROM:-0700
TZOFFSETTO:-0800
TZNAME:PST
DTSTART:20261101T090000
END:STANDARD
BEGIN:DAYLIGHT
TZOFFSETFROM:-0800
TZOFFSETTO:-0700
TZNAME:PDT
DTSTART:20270314T100000
END:DAYLIGHT
BEGIN:STANDARD
TZOFFSETFROM:-0700
TZOFFSETTO:-0800
TZNAME:PST
DTSTART:20271107T090000
END:STANDARD
END:VTIMEZONE
BEGIN:VTIMEZONE
TZID:UTC
BEGIN:STANDARD
TZOFFSETFROM:+0000
TZOFFSETTO:+0000
TZNAME:UTC
DTSTART:20250101T000000
END:STANDARD
END:VTIMEZONE
BEGIN:VEVENT
DTSTART;TZID=America/Vancouver:20260416T100000
DTEND;TZID=America/Vancouver:20260416T120000
DTSTAMP:20260420T002912
CREATED:20260128T234026Z
LAST-MODIFIED:20260326T174139Z
UID:22998-1776333600-1776340800@nbis.ca
SUMMARY:Social Program: Beban Gardens Visit
DESCRIPTION:For more information\, or to register for an event\, please contact Groups Program Coordinator\, Samantha. \nEmail:  Groups@nbis.ca \nText:     250-268-5760 \nCall:      250-753-5600 Ext. 7 \n  \n  \nThe NBIS Social Program is funded by the BC Brain Injury Alliance.
URL:https://nbis.ca/event/social-program-tbd-2026-03-19-2026-04-16/
LOCATION:Beban Learning Gardens\, 2290 Bowen Road\, Nanaimo\, BC\, V9T 6J9\, Canada
CATEGORIES:Peer Support,Special Event
ORGANIZER;CN="Nanaimo Brain Injury Society":MAILTO:community@nbis.ca
END:VEVENT
BEGIN:VEVENT
DTSTART;TZID=America/Vancouver:20260415T100000
DTEND;TZID=America/Vancouver:20260415T113000
DTSTAMP:20260420T002912
CREATED:20260326T180404Z
LAST-MODIFIED:20260326T181016Z
UID:23758-1776247200-1776252600@nbis.ca
SUMMARY:Life After Brain Injury
DESCRIPTION:*You must register for this event before attending* \nAn informational flyer titled Life After Brain Injury describes an 8-week life after brain injury program with highlights\, a colorful brain illustration\, check mark icons\, and contact details for NBIS\, including email and phone numbers.
URL:https://nbis.ca/event/life-after-brain-injury-2/2026-04-15/
LOCATION:Nanaimo Brain Injury Society\, #101 - 235 Bastion Street\, Nanaimo\, BC\, V9R 3A3\, Canada
CATEGORIES:Community Workshop,Peer Support
ORGANIZER;CN="Nanaimo Brain Injury Society":MAILTO:community@nbis.ca
END:VEVENT
BEGIN:VEVENT
DTSTART;TZID=UTC:20260414T100000
DTEND;TZID=UTC:20260414T111500
DTSTAMP:20260420T002912
CREATED:20200909T110226Z
LAST-MODIFIED:20200909T110226Z
UID:22864-1776160800-1776165300@nbis.ca
SUMMARY:Virtual Client Drop- In
DESCRIPTION:  \n \nThe Nanaimo Brain Injury Society is pleased to invite you to our online Virtual Client Drop-In using ZOOM! \nIf you aren’t yet a client and are interested in participating in this program\, please email intake@nbis.ca or call 250-753-5600 Ext.1. \n  \nHope to see you there!
URL:https://nbis.ca/event/virtual-client-dropin/2026-04-14/
LOCATION:Zoom\, 235 Bastion Street\, Nanaimo\, 75007\, Canada
CATEGORIES:Peer Support
ATTACH;FMTTYPE=image/png:https://nbis.ca/wp-content/uploads/2020/09/Screenshot-2024-06-11-141326.png
ORGANIZER;CN="Nanaimo Brain Injury Society":MAILTO:community@nbis.ca
END:VEVENT
BEGIN:VEVENT
DTSTART;TZID=America/Vancouver:20260413T133000
DTEND;TZID=America/Vancouver:20260413T150000
DTSTAMP:20260420T002912
CREATED:20240822T231659Z
LAST-MODIFIED:20240822T231659Z
UID:22917-1776087000-1776092400@nbis.ca
SUMMARY:Client Coffee Drop-in
DESCRIPTION:Join in on our Coffee Drop-in group program for NBIS clients happening all Monday afternoons that the office is open! This is an informal get together and a great opportunity to get out of the house and connect with others. \n📅 When:    Every Monday\n⏰ Time:     1:30pm – 3:00pm\n📍 Where:   101-235 Bastion Street Nanaimo\, BC \n\n\n  \nIf interested\, please contact our Groups Program Coordinator\, Samantha: \nEmail –   groups@nbis.ca\nPhone –  250-753-5600 ext. 7\nText –      250-268-5760
URL:https://nbis.ca/event/client-coffee-drop-in-2/2026-04-13/
LOCATION:Nanaimo Brain Injury Society\, #101 - 235 Bastion Street\, Nanaimo\, BC\, V9R 3A3\, Canada
CATEGORIES:Peer Support
ATTACH;FMTTYPE=image/jpeg:https://nbis.ca/wp-content/uploads/2024/08/150929101049-black-coffee-stock.jpg
ORGANIZER;CN="Nanaimo Brain Injury Society":MAILTO:community@nbis.ca
END:VEVENT
BEGIN:VEVENT
DTSTART;TZID=America/Vancouver:20260409T100000
DTEND;TZID=America/Vancouver:20260409T120000
DTSTAMP:20260420T002912
CREATED:20260128T234026Z
LAST-MODIFIED:20260326T173709Z
UID:22997-1775728800-1775736000@nbis.ca
SUMMARY:Social Program: Paint by Number
DESCRIPTION:For more information\, or to register for an event\, please contact Groups Program Coordinator\, Samantha. \nEmail:  Groups@nbis.ca \nText:     250-268-5760 \nCall:      250-753-5600 Ext. 7 \n  \n  \nThe NBIS Social Program is funded by the BC Brain Injury Alliance.
URL:https://nbis.ca/event/social-program-tbd-2026-03-19-2026-04-09/
LOCATION:Nanaimo Brain Injury Society\, #101 - 235 Bastion Street\, Nanaimo\, BC\, V9R 3A3\, Canada
CATEGORIES:Peer Support
ORGANIZER;CN="Nanaimo Brain Injury Society":MAILTO:community@nbis.ca
END:VEVENT
BEGIN:VEVENT
DTSTART;TZID=UTC:20260407T100000
DTEND;TZID=UTC:20260407T111500
DTSTAMP:20260420T002912
CREATED:20200909T110226Z
LAST-MODIFIED:20200909T110226Z
UID:22863-1775556000-1775560500@nbis.ca
SUMMARY:Virtual Client Drop- In
DESCRIPTION:  \n \nThe Nanaimo Brain Injury Society is pleased to invite you to our online Virtual Client Drop-In using ZOOM! \nIf you aren’t yet a client and are interested in participating in this program\, please email intake@nbis.ca or call 250-753-5600 Ext.1. \n  \nHope to see you there!
URL:https://nbis.ca/event/virtual-client-dropin/2026-04-07/
LOCATION:Zoom\, 235 Bastion Street\, Nanaimo\, 75007\, Canada
CATEGORIES:Peer Support
ATTACH;FMTTYPE=image/png:https://nbis.ca/wp-content/uploads/2020/09/Screenshot-2024-06-11-141326.png
ORGANIZER;CN="Nanaimo Brain Injury Society":MAILTO:community@nbis.ca
END:VEVENT
BEGIN:VEVENT
DTSTART;VALUE=DATE:20260406
DTEND;VALUE=DATE:20260407
DTSTAMP:20260420T002912
CREATED:20200909T110221Z
LAST-MODIFIED:20260112T230754Z
UID:2056-1775433600-1775519999@nbis.ca
SUMMARY:Easter Monday
DESCRIPTION:NBIS Office is Closed.
URL:https://nbis.ca/event/easter/
LOCATION:Nanaimo Brain Injury Society\, #101 - 235 Bastion Street\, Nanaimo\, BC\, V9R 3A3\, Canada
CATEGORIES:Statutory Holiday
ATTACH;FMTTYPE=image/jpeg:https://nbis.ca/wp-content/uploads/2020/09/istockphoto-1141789239-612x612-1.jpg
ORGANIZER;CN="Nanaimo Brain Injury Society":MAILTO:community@nbis.ca
END:VEVENT
BEGIN:VEVENT
DTSTART;TZID=America/Vancouver:20260402T100000
DTEND;TZID=America/Vancouver:20260402T120000
DTSTAMP:20260420T002912
CREATED:20260128T234026Z
LAST-MODIFIED:20260326T214425Z
UID:22996-1775124000-1775131200@nbis.ca
SUMMARY:Social Program: Collaging
DESCRIPTION:For more information\, or to register for an event\, please contact Groups Program Coordinator\, Samantha. \nEmail:  Groups@nbis.ca \nText:     250-268-5760 \nCall:      250-753-5600 Ext. 7 \n  \n  \nThe NBIS Social Program is funded by the BC Brain Injury Alliance.
URL:https://nbis.ca/event/social-program-tbd-2026-03-19-2026-04-02/
LOCATION:Nanaimo Brain Injury Society\, #101 - 235 Bastion Street\, Nanaimo\, BC\, V9R 3A3\, Canada
CATEGORIES:Peer Support
ORGANIZER;CN="Nanaimo Brain Injury Society":MAILTO:community@nbis.ca
END:VEVENT
BEGIN:VEVENT
DTSTART;TZID=America/Vancouver:20260401T180000
DTEND;TZID=America/Vancouver:20260401T193000
DTSTAMP:20260420T002912
CREATED:20231219T223029Z
LAST-MODIFIED:20260326T173145Z
UID:20362-1775066400-1775071800@nbis.ca
SUMMARY:Jan's Caregiver Info Session
DESCRIPTION:LOCATION: 101-235 BASTION STREET\, NANAIMO \nDATE: WED\, April 1st \nTIME: 6:00 – 7:30PM \n  \n  \nWe hope to see you there! \n 
URL:https://nbis.ca/event/jans-caregiver-information-sessions/
LOCATION:Nanaimo Brain Injury Society\, #101 - 235 Bastion Street\, Nanaimo\, BC\, V9R 3A3\, Canada
CATEGORIES:Community Workshop
ATTACH;FMTTYPE=image/jpeg:https://nbis.ca/wp-content/uploads/2022/02/Jan2Small.jpg
ORGANIZER;CN="Nanaimo Brain Injury Society":MAILTO:community@nbis.ca
END:VEVENT
BEGIN:VEVENT
DTSTART;TZID=UTC:20260331T100000
DTEND;TZID=UTC:20260331T111500
DTSTAMP:20260420T002912
CREATED:20200909T110226Z
LAST-MODIFIED:20200909T110226Z
UID:22862-1774951200-1774955700@nbis.ca
SUMMARY:Virtual Client Drop- In
DESCRIPTION:  \n \nThe Nanaimo Brain Injury Society is pleased to invite you to our online Virtual Client Drop-In using ZOOM! \nIf you aren’t yet a client and are interested in participating in this program\, please email intake@nbis.ca or call 250-753-5600 Ext.1. \n  \nHope to see you there!
URL:https://nbis.ca/event/virtual-client-dropin/2026-03-31/
LOCATION:Zoom\, 235 Bastion Street\, Nanaimo\, 75007\, Canada
CATEGORIES:Peer Support
ATTACH;FMTTYPE=image/png:https://nbis.ca/wp-content/uploads/2020/09/Screenshot-2024-06-11-141326.png
ORGANIZER;CN="Nanaimo Brain Injury Society":MAILTO:community@nbis.ca
END:VEVENT
BEGIN:VEVENT
DTSTART;TZID=America/Vancouver:20260330T133000
DTEND;TZID=America/Vancouver:20260330T150000
DTSTAMP:20260420T002912
CREATED:20240822T231659Z
LAST-MODIFIED:20240822T231659Z
UID:22916-1774877400-1774882800@nbis.ca
SUMMARY:Client Coffee Drop-in
DESCRIPTION:Join in on our Coffee Drop-in group program for NBIS clients happening all Monday afternoons that the office is open! This is an informal get together and a great opportunity to get out of the house and connect with others. \n📅 When:    Every Monday\n⏰ Time:     1:30pm – 3:00pm\n📍 Where:   101-235 Bastion Street Nanaimo\, BC \n\n\n  \nIf interested\, please contact our Groups Program Coordinator\, Samantha: \nEmail –   groups@nbis.ca\nPhone –  250-753-5600 ext. 7\nText –      250-268-5760
URL:https://nbis.ca/event/client-coffee-drop-in-2/2026-03-30/
LOCATION:Nanaimo Brain Injury Society\, #101 - 235 Bastion Street\, Nanaimo\, BC\, V9R 3A3\, Canada
CATEGORIES:Peer Support
ATTACH;FMTTYPE=image/jpeg:https://nbis.ca/wp-content/uploads/2024/08/150929101049-black-coffee-stock.jpg
ORGANIZER;CN="Nanaimo Brain Injury Society":MAILTO:community@nbis.ca
END:VEVENT
BEGIN:VEVENT
DTSTART;TZID=America/Vancouver:20260326T100000
DTEND;TZID=America/Vancouver:20260326T120000
DTSTAMP:20260420T002912
CREATED:20260128T234026Z
LAST-MODIFIED:20260326T174302Z
UID:22995-1774519200-1774526400@nbis.ca
SUMMARY:Social Program: Guided Painting
DESCRIPTION:For more information\, or to register for an event\, please contact Groups Program Coordinator\, Samantha. \nEmail:  Groups@nbis.ca \nText:     250-268-5760 \nCall:      250-753-5600 Ext. 7 \n  \n  \nThe NBIS Social Program is funded by the BC Brain Injury Alliance.
URL:https://nbis.ca/event/social-program-tbd-2026-03-19-2026-03-26/
LOCATION:Nanaimo Brain Injury Society\, #101 - 235 Bastion Street\, Nanaimo\, BC\, V9R 3A3\, Canada
CATEGORIES:Peer Support
ORGANIZER;CN="Nanaimo Brain Injury Society":MAILTO:community@nbis.ca
END:VEVENT
BEGIN:VEVENT
DTSTART;TZID=America/Vancouver:20260325T100000
DTEND;TZID=America/Vancouver:20260325T110000
DTSTAMP:20260420T002912
CREATED:20260217T214202Z
LAST-MODIFIED:20260326T170413Z
UID:23113-1774432800-1774436400@nbis.ca
SUMMARY:Client Chair Yoga
DESCRIPTION:Join us for a free 1-hour Chair Yoga session! \nTime: 10-11am \nLocation: NBIS Office (#101-235 Bastion Street)
URL:https://nbis.ca/event/client-relaxation-session/
LOCATION:Nanaimo Brain Injury Society\, #101 - 235 Bastion Street\, Nanaimo\, BC\, V9R 3A3\, Canada
CATEGORIES:Wellness Group Event
ORGANIZER;CN="Nanaimo Brain Injury Society":MAILTO:community@nbis.ca
END:VEVENT
BEGIN:VEVENT
DTSTART;TZID=UTC:20260324T100000
DTEND;TZID=UTC:20260324T111500
DTSTAMP:20260420T002912
CREATED:20200909T110226Z
LAST-MODIFIED:20200909T110226Z
UID:22861-1774346400-1774350900@nbis.ca
SUMMARY:Virtual Client Drop- In
DESCRIPTION:  \n \nThe Nanaimo Brain Injury Society is pleased to invite you to our online Virtual Client Drop-In using ZOOM! \nIf you aren’t yet a client and are interested in participating in this program\, please email intake@nbis.ca or call 250-753-5600 Ext.1. \n  \nHope to see you there!
URL:https://nbis.ca/event/virtual-client-dropin/2026-03-24/
LOCATION:Zoom\, 235 Bastion Street\, Nanaimo\, 75007\, Canada
CATEGORIES:Peer Support
ATTACH;FMTTYPE=image/png:https://nbis.ca/wp-content/uploads/2020/09/Screenshot-2024-06-11-141326.png
ORGANIZER;CN="Nanaimo Brain Injury Society":MAILTO:community@nbis.ca
END:VEVENT
BEGIN:VEVENT
DTSTART;TZID=America/Vancouver:20260323T133000
DTEND;TZID=America/Vancouver:20260323T150000
DTSTAMP:20260420T002912
CREATED:20240822T231659Z
LAST-MODIFIED:20240822T231659Z
UID:22915-1774272600-1774278000@nbis.ca
SUMMARY:Client Coffee Drop-in
DESCRIPTION:Join in on our Coffee Drop-in group program for NBIS clients happening all Monday afternoons that the office is open! This is an informal get together and a great opportunity to get out of the house and connect with others. \n📅 When:    Every Monday\n⏰ Time:     1:30pm – 3:00pm\n📍 Where:   101-235 Bastion Street Nanaimo\, BC \n\n\n  \nIf interested\, please contact our Groups Program Coordinator\, Samantha: \nEmail –   groups@nbis.ca\nPhone –  250-753-5600 ext. 7\nText –      250-268-5760
URL:https://nbis.ca/event/client-coffee-drop-in-2/2026-03-23/
LOCATION:Nanaimo Brain Injury Society\, #101 - 235 Bastion Street\, Nanaimo\, BC\, V9R 3A3\, Canada
CATEGORIES:Peer Support
ATTACH;FMTTYPE=image/jpeg:https://nbis.ca/wp-content/uploads/2024/08/150929101049-black-coffee-stock.jpg
ORGANIZER;CN="Nanaimo Brain Injury Society":MAILTO:community@nbis.ca
END:VEVENT
BEGIN:VEVENT
DTSTART;TZID=America/Vancouver:20260319T100000
DTEND;TZID=America/Vancouver:20260319T120000
DTSTAMP:20260420T002912
CREATED:20260128T234026Z
LAST-MODIFIED:20260326T174800Z
UID:22994-1773914400-1773921600@nbis.ca
SUMMARY:Social Program: TBD
DESCRIPTION:  \nFor more information\, or to register for an event\, please contact Groups Program Coordinator\, Samantha. \nEmail:  Groups@nbis.ca \nText:     250-268-5760 \nCall:      250-753-5600 Ext. 7 \n  \n  \nThe NBIS Social Program is funded by the BC Brain Injury Alliance.
URL:https://nbis.ca/event/social-program-tbd-2026-03-19/2026-03-19/
LOCATION:Nanaimo Brain Injury Society\, #101 - 235 Bastion Street\, Nanaimo\, BC\, V9R 3A3\, Canada
CATEGORIES:Peer Support
ORGANIZER;CN="Nanaimo Brain Injury Society":MAILTO:community@nbis.ca
END:VEVENT
BEGIN:VEVENT
DTSTART;TZID=UTC:20260317T100000
DTEND;TZID=UTC:20260317T111500
DTSTAMP:20260420T002912
CREATED:20200909T110226Z
LAST-MODIFIED:20200909T110226Z
UID:22860-1773741600-1773746100@nbis.ca
SUMMARY:Virtual Client Drop- In
DESCRIPTION:  \n \nThe Nanaimo Brain Injury Society is pleased to invite you to our online Virtual Client Drop-In using ZOOM! \nIf you aren’t yet a client and are interested in participating in this program\, please email intake@nbis.ca or call 250-753-5600 Ext.1. \n  \nHope to see you there!
URL:https://nbis.ca/event/virtual-client-dropin/2026-03-17/
LOCATION:Zoom\, 235 Bastion Street\, Nanaimo\, 75007\, Canada
CATEGORIES:Peer Support
ATTACH;FMTTYPE=image/png:https://nbis.ca/wp-content/uploads/2020/09/Screenshot-2024-06-11-141326.png
ORGANIZER;CN="Nanaimo Brain Injury Society":MAILTO:community@nbis.ca
END:VEVENT
BEGIN:VEVENT
DTSTART;TZID=America/Vancouver:20260316T133000
DTEND;TZID=America/Vancouver:20260316T150000
DTSTAMP:20260420T002912
CREATED:20240822T231659Z
LAST-MODIFIED:20240822T231659Z
UID:22914-1773667800-1773673200@nbis.ca
SUMMARY:Client Coffee Drop-in
DESCRIPTION:Join in on our Coffee Drop-in group program for NBIS clients happening all Monday afternoons that the office is open! This is an informal get together and a great opportunity to get out of the house and connect with others. \n📅 When:    Every Monday\n⏰ Time:     1:30pm – 3:00pm\n📍 Where:   101-235 Bastion Street Nanaimo\, BC \n\n\n  \nIf interested\, please contact our Groups Program Coordinator\, Samantha: \nEmail –   groups@nbis.ca\nPhone –  250-753-5600 ext. 7\nText –      250-268-5760
URL:https://nbis.ca/event/client-coffee-drop-in-2/2026-03-16/
LOCATION:Nanaimo Brain Injury Society\, #101 - 235 Bastion Street\, Nanaimo\, BC\, V9R 3A3\, Canada
CATEGORIES:Peer Support
ATTACH;FMTTYPE=image/jpeg:https://nbis.ca/wp-content/uploads/2024/08/150929101049-black-coffee-stock.jpg
ORGANIZER;CN="Nanaimo Brain Injury Society":MAILTO:community@nbis.ca
END:VEVENT
BEGIN:VEVENT
DTSTART;TZID=America/Vancouver:20260312T100000
DTEND;TZID=America/Vancouver:20260312T120000
DTSTAMP:20260420T002912
CREATED:20260128T234026Z
LAST-MODIFIED:20260217T215440Z
UID:22993-1773309600-1773316800@nbis.ca
SUMMARY:Social Program: Air Clay Pinch Pots
DESCRIPTION:Limited spaces available. \nFor more information\, or to register for an event\, please contact Groups Program Coordinator\, Samantha. \nEmail:  Groups@nbis.ca \nText:     250-268-5760 \nCall:      250-753-5600 Ext. 7 \n  \n  \nThe NBIS Social Program is funded by the BC Brain Injury Alliance.
URL:https://nbis.ca/event/social-program-tbd-2026-03-12/
LOCATION:Nanaimo Brain Injury Society\, #101 - 235 Bastion Street\, Nanaimo\, BC\, V9R 3A3\, Canada
CATEGORIES:Peer Support
ORGANIZER;CN="Nanaimo Brain Injury Society":MAILTO:community@nbis.ca
END:VEVENT
BEGIN:VEVENT
DTSTART;TZID=UTC:20260310T100000
DTEND;TZID=UTC:20260310T111500
DTSTAMP:20260420T002912
CREATED:20200909T110226Z
LAST-MODIFIED:20200909T110226Z
UID:22859-1773136800-1773141300@nbis.ca
SUMMARY:Virtual Client Drop- In
DESCRIPTION:  \n \nThe Nanaimo Brain Injury Society is pleased to invite you to our online Virtual Client Drop-In using ZOOM! \nIf you aren’t yet a client and are interested in participating in this program\, please email intake@nbis.ca or call 250-753-5600 Ext.1. \n  \nHope to see you there!
URL:https://nbis.ca/event/virtual-client-dropin/2026-03-10/
LOCATION:Zoom\, 235 Bastion Street\, Nanaimo\, 75007\, Canada
CATEGORIES:Peer Support
ATTACH;FMTTYPE=image/png:https://nbis.ca/wp-content/uploads/2020/09/Screenshot-2024-06-11-141326.png
ORGANIZER;CN="Nanaimo Brain Injury Society":MAILTO:community@nbis.ca
END:VEVENT
BEGIN:VEVENT
DTSTART;TZID=America/Vancouver:20260309T133000
DTEND;TZID=America/Vancouver:20260309T150000
DTSTAMP:20260420T002912
CREATED:20240822T231659Z
LAST-MODIFIED:20240822T231659Z
UID:22913-1773063000-1773068400@nbis.ca
SUMMARY:Client Coffee Drop-in
DESCRIPTION:Join in on our Coffee Drop-in group program for NBIS clients happening all Monday afternoons that the office is open! This is an informal get together and a great opportunity to get out of the house and connect with others. \n📅 When:    Every Monday\n⏰ Time:     1:30pm – 3:00pm\n📍 Where:   101-235 Bastion Street Nanaimo\, BC \n\n\n  \nIf interested\, please contact our Groups Program Coordinator\, Samantha: \nEmail –   groups@nbis.ca\nPhone –  250-753-5600 ext. 7\nText –      250-268-5760
URL:https://nbis.ca/event/client-coffee-drop-in-2/2026-03-09/
LOCATION:Nanaimo Brain Injury Society\, #101 - 235 Bastion Street\, Nanaimo\, BC\, V9R 3A3\, Canada
CATEGORIES:Peer Support
ATTACH;FMTTYPE=image/jpeg:https://nbis.ca/wp-content/uploads/2024/08/150929101049-black-coffee-stock.jpg
ORGANIZER;CN="Nanaimo Brain Injury Society":MAILTO:community@nbis.ca
END:VEVENT
BEGIN:VEVENT
DTSTART;TZID=America/Vancouver:20260305T100000
DTEND;TZID=America/Vancouver:20260305T120000
DTSTAMP:20260420T002912
CREATED:20260128T234026Z
LAST-MODIFIED:20260217T215327Z
UID:22992-1772704800-1772712000@nbis.ca
SUMMARY:Social Program: Mix Media Mosaic
DESCRIPTION:Limited spaces available. \nFor more information\, or to register for an event\, please contact Groups Program Coordinator\, Samantha. \nEmail:  Groups@nbis.ca \nText:     250-268-5760 \nCall:      250-753-5600 Ext. 7 \n  \n  \nThe NBIS Social Program is funded by the BC Brain Injury Alliance.
URL:https://nbis.ca/event/social-program-tbd/
LOCATION:Nanaimo Brain Injury Society\, #101 - 235 Bastion Street\, Nanaimo\, BC\, V9R 3A3\, Canada
CATEGORIES:Peer Support
ORGANIZER;CN="Nanaimo Brain Injury Society":MAILTO:community@nbis.ca
END:VEVENT
BEGIN:VEVENT
DTSTART;TZID=UTC:20260303T100000
DTEND;TZID=UTC:20260303T111500
DTSTAMP:20260420T002912
CREATED:20200909T110226Z
LAST-MODIFIED:20200909T110226Z
UID:22858-1772532000-1772536500@nbis.ca
SUMMARY:Virtual Client Drop- In
DESCRIPTION:  \n \nThe Nanaimo Brain Injury Society is pleased to invite you to our online Virtual Client Drop-In using ZOOM! \nIf you aren’t yet a client and are interested in participating in this program\, please email intake@nbis.ca or call 250-753-5600 Ext.1. \n  \nHope to see you there!
URL:https://nbis.ca/event/virtual-client-dropin/2026-03-03/
LOCATION:Zoom\, 235 Bastion Street\, Nanaimo\, 75007\, Canada
CATEGORIES:Peer Support
ATTACH;FMTTYPE=image/png:https://nbis.ca/wp-content/uploads/2020/09/Screenshot-2024-06-11-141326.png
ORGANIZER;CN="Nanaimo Brain Injury Society":MAILTO:community@nbis.ca
END:VEVENT
BEGIN:VEVENT
DTSTART;TZID=America/Vancouver:20260302T133000
DTEND;TZID=America/Vancouver:20260302T150000
DTSTAMP:20260420T002912
CREATED:20240822T231659Z
LAST-MODIFIED:20240822T231659Z
UID:22912-1772458200-1772463600@nbis.ca
SUMMARY:Client Coffee Drop-in
DESCRIPTION:Join in on our Coffee Drop-in group program for NBIS clients happening all Monday afternoons that the office is open! This is an informal get together and a great opportunity to get out of the house and connect with others. \n📅 When:    Every Monday\n⏰ Time:     1:30pm – 3:00pm\n📍 Where:   101-235 Bastion Street Nanaimo\, BC \n\n\n  \nIf interested\, please contact our Groups Program Coordinator\, Samantha: \nEmail –   groups@nbis.ca\nPhone –  250-753-5600 ext. 7\nText –      250-268-5760
URL:https://nbis.ca/event/client-coffee-drop-in-2/2026-03-02/
LOCATION:Nanaimo Brain Injury Society\, #101 - 235 Bastion Street\, Nanaimo\, BC\, V9R 3A3\, Canada
CATEGORIES:Peer Support
ATTACH;FMTTYPE=image/jpeg:https://nbis.ca/wp-content/uploads/2024/08/150929101049-black-coffee-stock.jpg
ORGANIZER;CN="Nanaimo Brain Injury Society":MAILTO:community@nbis.ca
END:VEVENT
BEGIN:VEVENT
DTSTART;TZID=America/Vancouver:20260226T100000
DTEND;TZID=America/Vancouver:20260226T120000
DTSTAMP:20260420T002912
CREATED:20260128T235652Z
LAST-MODIFIED:20260129T000523Z
UID:23096-1772100000-1772107200@nbis.ca
SUMMARY:Social Program: Guided Painting
DESCRIPTION:The NBIS Social Program is an in-person member get together every Thursday morning \nthat provides participants with a space to connect\, create and have fun with peers. \n  \nLimited spaces available. \nFor more information\, or to register for an event\, please contact Groups Program Coordinator\, Samantha. \nEmail:  Groups@nbis.ca \nText:     250-268-5760 \nCall:      250-753-5600 Ext. 7 \n  \n  \nThe NBIS Social Program is funded by the BC Brain Injury Alliance.
URL:https://nbis.ca/event/social-program-3-2026-02-26/
LOCATION:Nanaimo Brain Injury Society\, #101 - 235 Bastion Street\, Nanaimo\, BC\, V9R 3A3\, Canada
CATEGORIES:Peer Support
ORGANIZER;CN="Nanaimo Brain Injury Society":MAILTO:community@nbis.ca
END:VEVENT
BEGIN:VEVENT
DTSTART;TZID=UTC:20260224T100000
DTEND;TZID=UTC:20260224T111500
DTSTAMP:20260420T002912
CREATED:20200909T110226Z
LAST-MODIFIED:20200909T110226Z
UID:22857-1771927200-1771931700@nbis.ca
SUMMARY:Virtual Client Drop- In
DESCRIPTION:  \n \nThe Nanaimo Brain Injury Society is pleased to invite you to our online Virtual Client Drop-In using ZOOM! \nIf you aren’t yet a client and are interested in participating in this program\, please email intake@nbis.ca or call 250-753-5600 Ext.1. \n  \nHope to see you there!
URL:https://nbis.ca/event/virtual-client-dropin/2026-02-24/
LOCATION:Zoom\, 235 Bastion Street\, Nanaimo\, 75007\, Canada
CATEGORIES:Peer Support
ATTACH;FMTTYPE=image/png:https://nbis.ca/wp-content/uploads/2020/09/Screenshot-2024-06-11-141326.png
ORGANIZER;CN="Nanaimo Brain Injury Society":MAILTO:community@nbis.ca
END:VEVENT
BEGIN:VEVENT
DTSTART;TZID=America/Vancouver:20260223T133000
DTEND;TZID=America/Vancouver:20260223T150000
DTSTAMP:20260420T002912
CREATED:20240822T231659Z
LAST-MODIFIED:20240822T231659Z
UID:22911-1771853400-1771858800@nbis.ca
SUMMARY:Client Coffee Drop-in
DESCRIPTION:Join in on our Coffee Drop-in group program for NBIS clients happening all Monday afternoons that the office is open! This is an informal get together and a great opportunity to get out of the house and connect with others. \n📅 When:    Every Monday\n⏰ Time:     1:30pm – 3:00pm\n📍 Where:   101-235 Bastion Street Nanaimo\, BC \n\n\n  \nIf interested\, please contact our Groups Program Coordinator\, Samantha: \nEmail –   groups@nbis.ca\nPhone –  250-753-5600 ext. 7\nText –      250-268-5760
URL:https://nbis.ca/event/client-coffee-drop-in-2/2026-02-23/
LOCATION:Nanaimo Brain Injury Society\, #101 - 235 Bastion Street\, Nanaimo\, BC\, V9R 3A3\, Canada
CATEGORIES:Peer Support
ATTACH;FMTTYPE=image/jpeg:https://nbis.ca/wp-content/uploads/2024/08/150929101049-black-coffee-stock.jpg
ORGANIZER;CN="Nanaimo Brain Injury Society":MAILTO:community@nbis.ca
END:VEVENT
BEGIN:VEVENT
DTSTART;TZID=America/Vancouver:20260219T100000
DTEND;TZID=America/Vancouver:20260219T120000
DTSTAMP:20260420T002912
CREATED:20260128T235652Z
LAST-MODIFIED:20260129T000253Z
UID:23095-1771495200-1771502400@nbis.ca
SUMMARY:Social Program: DIY Loom Coasters
DESCRIPTION:  \nThe NBIS Social Program is an in-person member get together every Thursday morning that provides participants with a space to connect\, create and have fun with peers.\nLimited spaces available. \nFor more information\, or to register for an event\, please contact Groups Program Coordinator\, Samantha. \nEmail:  Groups@nbis.ca \nText:     250-268-5760 \nCall:      250-753-5600 Ext. 7 \n  \n  \nThe NBIS Social Program is funded by the BC Brain Injury Alliance.
URL:https://nbis.ca/event/social-program-3-2026-02-19/
LOCATION:Nanaimo Brain Injury Society\, #101 - 235 Bastion Street\, Nanaimo\, BC\, V9R 3A3\, Canada
CATEGORIES:Peer Support
ORGANIZER;CN="Nanaimo Brain Injury Society":MAILTO:community@nbis.ca
END:VEVENT
BEGIN:VEVENT
DTSTART;TZID=UTC:20260217T100000
DTEND;TZID=UTC:20260217T111500
DTSTAMP:20260420T002912
CREATED:20200909T110226Z
LAST-MODIFIED:20200909T110226Z
UID:22856-1771322400-1771326900@nbis.ca
SUMMARY:Virtual Client Drop- In
DESCRIPTION:  \n \nThe Nanaimo Brain Injury Society is pleased to invite you to our online Virtual Client Drop-In using ZOOM! \nIf you aren’t yet a client and are interested in participating in this program\, please email intake@nbis.ca or call 250-753-5600 Ext.1. \n  \nHope to see you there!
URL:https://nbis.ca/event/virtual-client-dropin/2026-02-17/
LOCATION:Zoom\, 235 Bastion Street\, Nanaimo\, 75007\, Canada
CATEGORIES:Peer Support
ATTACH;FMTTYPE=image/png:https://nbis.ca/wp-content/uploads/2020/09/Screenshot-2024-06-11-141326.png
ORGANIZER;CN="Nanaimo Brain Injury Society":MAILTO:community@nbis.ca
END:VEVENT
BEGIN:VEVENT
DTSTART;TZID=America/Vancouver:20260212T100000
DTEND;TZID=America/Vancouver:20260212T120000
DTSTAMP:20260420T002912
CREATED:20260128T235652Z
LAST-MODIFIED:20260129T000027Z
UID:23094-1770890400-1770897600@nbis.ca
SUMMARY:Social Program: Pipecleaner Daisies
DESCRIPTION:The NBIS Social Program is an in-person member get together every Thursday morning  \nthat provides participants with a space to connect\, create and have fun with peers. \nLimited spaces available. \nFor more information\, or to register for an event\, please contact Groups Program Coordinator\, Samantha. \nEmail:  Groups@nbis.ca \nText:     250-268-5760 \nCall:      250-753-5600 Ext. 7 \n  \n  \nThe NBIS Social Program is funded by the BC Brain Injury Alliance.
URL:https://nbis.ca/event/social-program-3-2026-02-12/
LOCATION:Nanaimo Brain Injury Society\, #101 - 235 Bastion Street\, Nanaimo\, BC\, V9R 3A3\, Canada
CATEGORIES:Peer Support
ORGANIZER;CN="Nanaimo Brain Injury Society":MAILTO:community@nbis.ca
END:VEVENT
END:VCALENDAR