BEGIN:VCALENDAR
VERSION:2.0
PRODID:-//Nanaimo Brain Injury Society - ECPv6.15.20//NONSGML v1.0//EN
CALSCALE:GREGORIAN
METHOD:PUBLISH
X-WR-CALNAME:Nanaimo Brain Injury Society
X-ORIGINAL-URL:https://nbis.ca
X-WR-CALDESC:Events for Nanaimo Brain Injury Society
REFRESH-INTERVAL;VALUE=DURATION:PT1H
X-Robots-Tag:noindex
X-PUBLISHED-TTL:PT1H
BEGIN:VTIMEZONE
TZID:America/Vancouver
BEGIN:DAYLIGHT
TZOFFSETFROM:-0800
TZOFFSETTO:-0700
TZNAME:PDT
DTSTART:20250309T100000
END:DAYLIGHT
BEGIN:STANDARD
TZOFFSETFROM:-0700
TZOFFSETTO:-0800
TZNAME:PST
DTSTART:20251102T090000
END:STANDARD
BEGIN:DAYLIGHT
TZOFFSETFROM:-0800
TZOFFSETTO:-0700
TZNAME:PDT
DTSTART:20260308T100000
END:DAYLIGHT
BEGIN:STANDARD
TZOFFSETFROM:-0700
TZOFFSETTO:-0800
TZNAME:PST
DTSTART:20261101T090000
END:STANDARD
BEGIN:DAYLIGHT
TZOFFSETFROM:-0800
TZOFFSETTO:-0700
TZNAME:PDT
DTSTART:20270314T100000
END:DAYLIGHT
BEGIN:STANDARD
TZOFFSETFROM:-0700
TZOFFSETTO:-0800
TZNAME:PST
DTSTART:20271107T090000
END:STANDARD
END:VTIMEZONE
BEGIN:VTIMEZONE
TZID:UTC
BEGIN:STANDARD
TZOFFSETFROM:+0000
TZOFFSETTO:+0000
TZNAME:UTC
DTSTART:20250101T000000
END:STANDARD
END:VTIMEZONE
BEGIN:VEVENT
DTSTART;TZID=America/Vancouver:20260420T133000
DTEND;TZID=America/Vancouver:20260420T150000
DTSTAMP:20260419T225825
CREATED:20240822T231659Z
LAST-MODIFIED:20240822T231659Z
UID:22918-1776691800-1776697200@nbis.ca
SUMMARY:Client Coffee Drop-in
DESCRIPTION:Join in on our Coffee Drop-in group program for NBIS clients happening all Monday afternoons that the office is open! This is an informal get together and a great opportunity to get out of the house and connect with others. \n📅 When:    Every Monday\n⏰ Time:     1:30pm – 3:00pm\n📍 Where:   101-235 Bastion Street Nanaimo\, BC \n\n\n  \nIf interested\, please contact our Groups Program Coordinator\, Samantha: \nEmail –   groups@nbis.ca\nPhone –  250-753-5600 ext. 7\nText –      250-268-5760
URL:https://nbis.ca/event/client-coffee-drop-in-2/2026-04-20/
LOCATION:Nanaimo Brain Injury Society\, #101 - 235 Bastion Street\, Nanaimo\, BC\, V9R 3A3\, Canada
CATEGORIES:Peer Support
ATTACH;FMTTYPE=image/jpeg:https://nbis.ca/wp-content/uploads/2024/08/150929101049-black-coffee-stock.jpg
ORGANIZER;CN="Nanaimo Brain Injury Society":MAILTO:community@nbis.ca
END:VEVENT
BEGIN:VEVENT
DTSTART;TZID=UTC:20260421T100000
DTEND;TZID=UTC:20260421T111500
DTSTAMP:20260419T225825
CREATED:20200909T110226Z
LAST-MODIFIED:20200909T110226Z
UID:22865-1776765600-1776770100@nbis.ca
SUMMARY:Virtual Client Drop- In
DESCRIPTION:  \n \nThe Nanaimo Brain Injury Society is pleased to invite you to our online Virtual Client Drop-In using ZOOM! \nIf you aren’t yet a client and are interested in participating in this program\, please email intake@nbis.ca or call 250-753-5600 Ext.1. \n  \nHope to see you there!
URL:https://nbis.ca/event/virtual-client-dropin/2026-04-21/
LOCATION:Zoom\, 235 Bastion Street\, Nanaimo\, 75007\, Canada
CATEGORIES:Peer Support
ATTACH;FMTTYPE=image/png:https://nbis.ca/wp-content/uploads/2020/09/Screenshot-2024-06-11-141326.png
ORGANIZER;CN="Nanaimo Brain Injury Society":MAILTO:community@nbis.ca
END:VEVENT
BEGIN:VEVENT
DTSTART;TZID=America/Vancouver:20260423T100000
DTEND;TZID=America/Vancouver:20260423T120000
DTSTAMP:20260419T225825
CREATED:20260128T234026Z
LAST-MODIFIED:20260326T174412Z
UID:22999-1776938400-1776945600@nbis.ca
SUMMARY:Social Program: Guided Poetry
DESCRIPTION:For more information\, or to register for an event\, please contact Groups Program Coordinator\, Samantha. \nEmail:  Groups@nbis.ca \nText:     250-268-5760 \nCall:      250-753-5600 Ext. 7 \n  \n  \nThe NBIS Social Program is funded by the BC Brain Injury Alliance.
URL:https://nbis.ca/event/social-program-tbd-2026-03-19-2026-04-23/
LOCATION:Nanaimo Brain Injury Society\, #101 - 235 Bastion Street\, Nanaimo\, BC\, V9R 3A3\, Canada
CATEGORIES:Peer Support
ORGANIZER;CN="Nanaimo Brain Injury Society":MAILTO:community@nbis.ca
END:VEVENT
BEGIN:VEVENT
DTSTART;TZID=America/Vancouver:20260427T133000
DTEND;TZID=America/Vancouver:20260427T150000
DTSTAMP:20260419T225825
CREATED:20240822T231659Z
LAST-MODIFIED:20240822T231659Z
UID:22919-1777296600-1777302000@nbis.ca
SUMMARY:Client Coffee Drop-in
DESCRIPTION:Join in on our Coffee Drop-in group program for NBIS clients happening all Monday afternoons that the office is open! This is an informal get together and a great opportunity to get out of the house and connect with others. \n📅 When:    Every Monday\n⏰ Time:     1:30pm – 3:00pm\n📍 Where:   101-235 Bastion Street Nanaimo\, BC \n\n\n  \nIf interested\, please contact our Groups Program Coordinator\, Samantha: \nEmail –   groups@nbis.ca\nPhone –  250-753-5600 ext. 7\nText –      250-268-5760
URL:https://nbis.ca/event/client-coffee-drop-in-2/2026-04-27/
LOCATION:Nanaimo Brain Injury Society\, #101 - 235 Bastion Street\, Nanaimo\, BC\, V9R 3A3\, Canada
CATEGORIES:Peer Support
ATTACH;FMTTYPE=image/jpeg:https://nbis.ca/wp-content/uploads/2024/08/150929101049-black-coffee-stock.jpg
ORGANIZER;CN="Nanaimo Brain Injury Society":MAILTO:community@nbis.ca
END:VEVENT
BEGIN:VEVENT
DTSTART;TZID=UTC:20260428T100000
DTEND;TZID=UTC:20260428T111500
DTSTAMP:20260419T225825
CREATED:20200909T110226Z
LAST-MODIFIED:20200909T110226Z
UID:22866-1777370400-1777374900@nbis.ca
SUMMARY:Virtual Client Drop- In
DESCRIPTION:  \n \nThe Nanaimo Brain Injury Society is pleased to invite you to our online Virtual Client Drop-In using ZOOM! \nIf you aren’t yet a client and are interested in participating in this program\, please email intake@nbis.ca or call 250-753-5600 Ext.1. \n  \nHope to see you there!
URL:https://nbis.ca/event/virtual-client-dropin/2026-04-28/
LOCATION:Zoom\, 235 Bastion Street\, Nanaimo\, 75007\, Canada
CATEGORIES:Peer Support
ATTACH;FMTTYPE=image/png:https://nbis.ca/wp-content/uploads/2020/09/Screenshot-2024-06-11-141326.png
ORGANIZER;CN="Nanaimo Brain Injury Society":MAILTO:community@nbis.ca
END:VEVENT
BEGIN:VEVENT
DTSTART;TZID=America/Vancouver:20260428T180000
DTEND;TZID=America/Vancouver:20260428T193000
DTSTAMP:20260419T225825
CREATED:20240822T230911Z
LAST-MODIFIED:20260326T170730Z
UID:21312-1777399200-1777404600@nbis.ca
SUMMARY:Understanding Brain Injury Workshop
DESCRIPTION:Please join us for a free public workshop\, “Understanding Brain Injury”\n\nLearn about causes and symptoms of brain injury\nUseful tips on what can help during recovery\nInformation about programs & community resources\nQ&A Session\n\nPresented by Ashleigh Wasner\, Registered Psychiatric Nurse\, Certified Brain Injury Specialist\, & a returning member of our board of directors. Ashleigh is currently the Executive Director at Eden Gardens here in Nanaimo. \nJoin Us: \nTuesday\, April 28th 6:00-7:30pm \nNanaimo brain injury society (#101 – 235 Bastion Street) \nRSVP here: \nEmail: Groups@nbis.ca \nText: 250-268-5760 \nCall: 250-753-5600 ext. 7
URL:https://nbis.ca/event/understanding-brain-injury-workshop/
LOCATION:Nanaimo Brain Injury Society\, #101 - 235 Bastion Street\, Nanaimo\, BC\, V9R 3A3\, Canada
CATEGORIES:Community Workshop
ATTACH;FMTTYPE=image/jpeg:https://nbis.ca/wp-content/uploads/2022/03/pexels-photomix-company-1002703-scaled.jpg
ORGANIZER;CN="Nanaimo Brain Injury Society":MAILTO:community@nbis.ca
END:VEVENT
BEGIN:VEVENT
DTSTART;TZID=America/Vancouver:20260429T100000
DTEND;TZID=America/Vancouver:20260429T113000
DTSTAMP:20260419T225825
CREATED:20260326T180404Z
LAST-MODIFIED:20260326T181016Z
UID:23760-1777456800-1777462200@nbis.ca
SUMMARY:Life After Brain Injury
DESCRIPTION:*You must register for this event before attending* \nAn informational flyer titled Life After Brain Injury describes an 8-week life after brain injury program with highlights\, a colorful brain illustration\, check mark icons\, and contact details for NBIS\, including email and phone numbers.
URL:https://nbis.ca/event/life-after-brain-injury-2/2026-04-29/
LOCATION:Nanaimo Brain Injury Society\, #101 - 235 Bastion Street\, Nanaimo\, BC\, V9R 3A3\, Canada
CATEGORIES:Community Workshop,Peer Support
ORGANIZER;CN="Nanaimo Brain Injury Society":MAILTO:community@nbis.ca
END:VEVENT
BEGIN:VEVENT
DTSTART;TZID=America/Vancouver:20260430T100000
DTEND;TZID=America/Vancouver:20260430T120000
DTSTAMP:20260419T225825
CREATED:20260128T234026Z
LAST-MODIFIED:20260326T174458Z
UID:23000-1777543200-1777550400@nbis.ca
SUMMARY:Social Program: Guided Painting
DESCRIPTION:For more information\, or to register for an event\, please contact Groups Program Coordinator\, Samantha. \nEmail:  Groups@nbis.ca \nText:     250-268-5760 \nCall:      250-753-5600 Ext. 7 \n  \n  \nThe NBIS Social Program is funded by the BC Brain Injury Alliance.
URL:https://nbis.ca/event/social-program-tbd-2026-03-19-2026-04-30/
LOCATION:Nanaimo Brain Injury Society\, #101 - 235 Bastion Street\, Nanaimo\, BC\, V9R 3A3\, Canada
CATEGORIES:Peer Support
ORGANIZER;CN="Nanaimo Brain Injury Society":MAILTO:community@nbis.ca
END:VEVENT
BEGIN:VEVENT
DTSTART;TZID=America/Vancouver:20260504T133000
DTEND;TZID=America/Vancouver:20260504T150000
DTSTAMP:20260419T225825
CREATED:20240822T231659Z
LAST-MODIFIED:20240822T231659Z
UID:22920-1777901400-1777906800@nbis.ca
SUMMARY:Client Coffee Drop-in
DESCRIPTION:Join in on our Coffee Drop-in group program for NBIS clients happening all Monday afternoons that the office is open! This is an informal get together and a great opportunity to get out of the house and connect with others. \n📅 When:    Every Monday\n⏰ Time:     1:30pm – 3:00pm\n📍 Where:   101-235 Bastion Street Nanaimo\, BC \n\n\n  \nIf interested\, please contact our Groups Program Coordinator\, Samantha: \nEmail –   groups@nbis.ca\nPhone –  250-753-5600 ext. 7\nText –      250-268-5760
URL:https://nbis.ca/event/client-coffee-drop-in-2/2026-05-04/
LOCATION:Nanaimo Brain Injury Society\, #101 - 235 Bastion Street\, Nanaimo\, BC\, V9R 3A3\, Canada
CATEGORIES:Peer Support
ATTACH;FMTTYPE=image/jpeg:https://nbis.ca/wp-content/uploads/2024/08/150929101049-black-coffee-stock.jpg
ORGANIZER;CN="Nanaimo Brain Injury Society":MAILTO:community@nbis.ca
END:VEVENT
BEGIN:VEVENT
DTSTART;TZID=UTC:20260505T100000
DTEND;TZID=UTC:20260505T111500
DTSTAMP:20260419T225825
CREATED:20200909T110226Z
LAST-MODIFIED:20200909T110226Z
UID:22867-1777975200-1777979700@nbis.ca
SUMMARY:Virtual Client Drop- In
DESCRIPTION:  \n \nThe Nanaimo Brain Injury Society is pleased to invite you to our online Virtual Client Drop-In using ZOOM! \nIf you aren’t yet a client and are interested in participating in this program\, please email intake@nbis.ca or call 250-753-5600 Ext.1. \n  \nHope to see you there!
URL:https://nbis.ca/event/virtual-client-dropin/2026-05-05/
LOCATION:Zoom\, 235 Bastion Street\, Nanaimo\, 75007\, Canada
CATEGORIES:Peer Support
ATTACH;FMTTYPE=image/png:https://nbis.ca/wp-content/uploads/2020/09/Screenshot-2024-06-11-141326.png
ORGANIZER;CN="Nanaimo Brain Injury Society":MAILTO:community@nbis.ca
END:VEVENT
BEGIN:VEVENT
DTSTART;TZID=America/Vancouver:20260506T100000
DTEND;TZID=America/Vancouver:20260506T113000
DTSTAMP:20260419T225825
CREATED:20260326T180404Z
LAST-MODIFIED:20260326T181016Z
UID:23761-1778061600-1778067000@nbis.ca
SUMMARY:Life After Brain Injury
DESCRIPTION:*You must register for this event before attending* \nAn informational flyer titled Life After Brain Injury describes an 8-week life after brain injury program with highlights\, a colorful brain illustration\, check mark icons\, and contact details for NBIS\, including email and phone numbers.
URL:https://nbis.ca/event/life-after-brain-injury-2/2026-05-06/
LOCATION:Nanaimo Brain Injury Society\, #101 - 235 Bastion Street\, Nanaimo\, BC\, V9R 3A3\, Canada
CATEGORIES:Community Workshop,Peer Support
ORGANIZER;CN="Nanaimo Brain Injury Society":MAILTO:community@nbis.ca
END:VEVENT
BEGIN:VEVENT
DTSTART;TZID=America/Vancouver:20260507T100000
DTEND;TZID=America/Vancouver:20260507T120000
DTSTAMP:20260419T225825
CREATED:20260128T234026Z
LAST-MODIFIED:20260326T174800Z
UID:23001-1778148000-1778155200@nbis.ca
SUMMARY:Social Program: TBD
DESCRIPTION:  \nFor more information\, or to register for an event\, please contact Groups Program Coordinator\, Samantha. \nEmail:  Groups@nbis.ca \nText:     250-268-5760 \nCall:      250-753-5600 Ext. 7 \n  \n  \nThe NBIS Social Program is funded by the BC Brain Injury Alliance.
URL:https://nbis.ca/event/social-program-tbd-2026-03-19/2026-05-07/
LOCATION:Nanaimo Brain Injury Society\, #101 - 235 Bastion Street\, Nanaimo\, BC\, V9R 3A3\, Canada
CATEGORIES:Peer Support
ORGANIZER;CN="Nanaimo Brain Injury Society":MAILTO:community@nbis.ca
END:VEVENT
BEGIN:VEVENT
DTSTART;TZID=America/Vancouver:20260511T133000
DTEND;TZID=America/Vancouver:20260511T150000
DTSTAMP:20260419T225825
CREATED:20240822T231659Z
LAST-MODIFIED:20240822T231659Z
UID:22921-1778506200-1778511600@nbis.ca
SUMMARY:Client Coffee Drop-in
DESCRIPTION:Join in on our Coffee Drop-in group program for NBIS clients happening all Monday afternoons that the office is open! This is an informal get together and a great opportunity to get out of the house and connect with others. \n📅 When:    Every Monday\n⏰ Time:     1:30pm – 3:00pm\n📍 Where:   101-235 Bastion Street Nanaimo\, BC \n\n\n  \nIf interested\, please contact our Groups Program Coordinator\, Samantha: \nEmail –   groups@nbis.ca\nPhone –  250-753-5600 ext. 7\nText –      250-268-5760
URL:https://nbis.ca/event/client-coffee-drop-in-2/2026-05-11/
LOCATION:Nanaimo Brain Injury Society\, #101 - 235 Bastion Street\, Nanaimo\, BC\, V9R 3A3\, Canada
CATEGORIES:Peer Support
ATTACH;FMTTYPE=image/jpeg:https://nbis.ca/wp-content/uploads/2024/08/150929101049-black-coffee-stock.jpg
ORGANIZER;CN="Nanaimo Brain Injury Society":MAILTO:community@nbis.ca
END:VEVENT
BEGIN:VEVENT
DTSTART;TZID=UTC:20260512T100000
DTEND;TZID=UTC:20260512T111500
DTSTAMP:20260419T225825
CREATED:20200909T110226Z
LAST-MODIFIED:20200909T110226Z
UID:22868-1778580000-1778584500@nbis.ca
SUMMARY:Virtual Client Drop- In
DESCRIPTION:  \n \nThe Nanaimo Brain Injury Society is pleased to invite you to our online Virtual Client Drop-In using ZOOM! \nIf you aren’t yet a client and are interested in participating in this program\, please email intake@nbis.ca or call 250-753-5600 Ext.1. \n  \nHope to see you there!
URL:https://nbis.ca/event/virtual-client-dropin/2026-05-12/
LOCATION:Zoom\, 235 Bastion Street\, Nanaimo\, 75007\, Canada
CATEGORIES:Peer Support
ATTACH;FMTTYPE=image/png:https://nbis.ca/wp-content/uploads/2020/09/Screenshot-2024-06-11-141326.png
ORGANIZER;CN="Nanaimo Brain Injury Society":MAILTO:community@nbis.ca
END:VEVENT
BEGIN:VEVENT
DTSTART;TZID=America/Vancouver:20260514T100000
DTEND;TZID=America/Vancouver:20260514T120000
DTSTAMP:20260419T225825
CREATED:20260128T234026Z
LAST-MODIFIED:20260326T174800Z
UID:23002-1778752800-1778760000@nbis.ca
SUMMARY:Social Program: TBD
DESCRIPTION:  \nFor more information\, or to register for an event\, please contact Groups Program Coordinator\, Samantha. \nEmail:  Groups@nbis.ca \nText:     250-268-5760 \nCall:      250-753-5600 Ext. 7 \n  \n  \nThe NBIS Social Program is funded by the BC Brain Injury Alliance.
URL:https://nbis.ca/event/social-program-tbd-2026-03-19/2026-05-14/
LOCATION:Nanaimo Brain Injury Society\, #101 - 235 Bastion Street\, Nanaimo\, BC\, V9R 3A3\, Canada
CATEGORIES:Peer Support
ORGANIZER;CN="Nanaimo Brain Injury Society":MAILTO:community@nbis.ca
END:VEVENT
BEGIN:VEVENT
DTSTART;TZID=UTC:20260519T100000
DTEND;TZID=UTC:20260519T111500
DTSTAMP:20260419T225825
CREATED:20200909T110226Z
LAST-MODIFIED:20200909T110226Z
UID:22869-1779184800-1779189300@nbis.ca
SUMMARY:Virtual Client Drop- In
DESCRIPTION:  \n \nThe Nanaimo Brain Injury Society is pleased to invite you to our online Virtual Client Drop-In using ZOOM! \nIf you aren’t yet a client and are interested in participating in this program\, please email intake@nbis.ca or call 250-753-5600 Ext.1. \n  \nHope to see you there!
URL:https://nbis.ca/event/virtual-client-dropin/2026-05-19/
LOCATION:Zoom\, 235 Bastion Street\, Nanaimo\, 75007\, Canada
CATEGORIES:Peer Support
ATTACH;FMTTYPE=image/png:https://nbis.ca/wp-content/uploads/2020/09/Screenshot-2024-06-11-141326.png
ORGANIZER;CN="Nanaimo Brain Injury Society":MAILTO:community@nbis.ca
END:VEVENT
BEGIN:VEVENT
DTSTART;TZID=America/Vancouver:20260520T100000
DTEND;TZID=America/Vancouver:20260520T113000
DTSTAMP:20260419T225825
CREATED:20260326T180404Z
LAST-MODIFIED:20260326T181016Z
UID:23762-1779271200-1779276600@nbis.ca
SUMMARY:Life After Brain Injury
DESCRIPTION:*You must register for this event before attending* \nAn informational flyer titled Life After Brain Injury describes an 8-week life after brain injury program with highlights\, a colorful brain illustration\, check mark icons\, and contact details for NBIS\, including email and phone numbers.
URL:https://nbis.ca/event/life-after-brain-injury-2/2026-05-20/
LOCATION:Nanaimo Brain Injury Society\, #101 - 235 Bastion Street\, Nanaimo\, BC\, V9R 3A3\, Canada
CATEGORIES:Community Workshop,Peer Support
ORGANIZER;CN="Nanaimo Brain Injury Society":MAILTO:community@nbis.ca
END:VEVENT
BEGIN:VEVENT
DTSTART;TZID=America/Vancouver:20260521T100000
DTEND;TZID=America/Vancouver:20260521T120000
DTSTAMP:20260419T225825
CREATED:20260128T234026Z
LAST-MODIFIED:20260326T174800Z
UID:23004-1779357600-1779364800@nbis.ca
SUMMARY:Social Program: TBD
DESCRIPTION:  \nFor more information\, or to register for an event\, please contact Groups Program Coordinator\, Samantha. \nEmail:  Groups@nbis.ca \nText:     250-268-5760 \nCall:      250-753-5600 Ext. 7 \n  \n  \nThe NBIS Social Program is funded by the BC Brain Injury Alliance.
URL:https://nbis.ca/event/social-program-tbd-2026-03-19/2026-05-21/
LOCATION:Nanaimo Brain Injury Society\, #101 - 235 Bastion Street\, Nanaimo\, BC\, V9R 3A3\, Canada
CATEGORIES:Peer Support
ORGANIZER;CN="Nanaimo Brain Injury Society":MAILTO:community@nbis.ca
END:VEVENT
BEGIN:VEVENT
DTSTART;TZID=America/Vancouver:20260525T133000
DTEND;TZID=America/Vancouver:20260525T150000
DTSTAMP:20260419T225825
CREATED:20240822T231659Z
LAST-MODIFIED:20240822T231659Z
UID:22922-1779715800-1779721200@nbis.ca
SUMMARY:Client Coffee Drop-in
DESCRIPTION:Join in on our Coffee Drop-in group program for NBIS clients happening all Monday afternoons that the office is open! This is an informal get together and a great opportunity to get out of the house and connect with others. \n📅 When:    Every Monday\n⏰ Time:     1:30pm – 3:00pm\n📍 Where:   101-235 Bastion Street Nanaimo\, BC \n\n\n  \nIf interested\, please contact our Groups Program Coordinator\, Samantha: \nEmail –   groups@nbis.ca\nPhone –  250-753-5600 ext. 7\nText –      250-268-5760
URL:https://nbis.ca/event/client-coffee-drop-in-2/2026-05-25/
LOCATION:Nanaimo Brain Injury Society\, #101 - 235 Bastion Street\, Nanaimo\, BC\, V9R 3A3\, Canada
CATEGORIES:Peer Support
ATTACH;FMTTYPE=image/jpeg:https://nbis.ca/wp-content/uploads/2024/08/150929101049-black-coffee-stock.jpg
ORGANIZER;CN="Nanaimo Brain Injury Society":MAILTO:community@nbis.ca
END:VEVENT
BEGIN:VEVENT
DTSTART;TZID=UTC:20260526T100000
DTEND;TZID=UTC:20260526T111500
DTSTAMP:20260419T225825
CREATED:20200909T110226Z
LAST-MODIFIED:20200909T110226Z
UID:22870-1779789600-1779794100@nbis.ca
SUMMARY:Virtual Client Drop- In
DESCRIPTION:  \n \nThe Nanaimo Brain Injury Society is pleased to invite you to our online Virtual Client Drop-In using ZOOM! \nIf you aren’t yet a client and are interested in participating in this program\, please email intake@nbis.ca or call 250-753-5600 Ext.1. \n  \nHope to see you there!
URL:https://nbis.ca/event/virtual-client-dropin/2026-05-26/
LOCATION:Zoom\, 235 Bastion Street\, Nanaimo\, 75007\, Canada
CATEGORIES:Peer Support
ATTACH;FMTTYPE=image/png:https://nbis.ca/wp-content/uploads/2020/09/Screenshot-2024-06-11-141326.png
ORGANIZER;CN="Nanaimo Brain Injury Society":MAILTO:community@nbis.ca
END:VEVENT
BEGIN:VEVENT
DTSTART;TZID=America/Vancouver:20260527T100000
DTEND;TZID=America/Vancouver:20260527T113000
DTSTAMP:20260419T225825
CREATED:20260326T180404Z
LAST-MODIFIED:20260326T181016Z
UID:23763-1779876000-1779881400@nbis.ca
SUMMARY:Life After Brain Injury
DESCRIPTION:*You must register for this event before attending* \nAn informational flyer titled Life After Brain Injury describes an 8-week life after brain injury program with highlights\, a colorful brain illustration\, check mark icons\, and contact details for NBIS\, including email and phone numbers.
URL:https://nbis.ca/event/life-after-brain-injury-2/2026-05-27/
LOCATION:Nanaimo Brain Injury Society\, #101 - 235 Bastion Street\, Nanaimo\, BC\, V9R 3A3\, Canada
CATEGORIES:Community Workshop,Peer Support
ORGANIZER;CN="Nanaimo Brain Injury Society":MAILTO:community@nbis.ca
END:VEVENT
BEGIN:VEVENT
DTSTART;TZID=America/Vancouver:20260528T100000
DTEND;TZID=America/Vancouver:20260528T120000
DTSTAMP:20260419T225825
CREATED:20260128T234026Z
LAST-MODIFIED:20260326T174800Z
UID:23005-1779962400-1779969600@nbis.ca
SUMMARY:Social Program: TBD
DESCRIPTION:  \nFor more information\, or to register for an event\, please contact Groups Program Coordinator\, Samantha. \nEmail:  Groups@nbis.ca \nText:     250-268-5760 \nCall:      250-753-5600 Ext. 7 \n  \n  \nThe NBIS Social Program is funded by the BC Brain Injury Alliance.
URL:https://nbis.ca/event/social-program-tbd-2026-03-19/2026-05-28/
LOCATION:Nanaimo Brain Injury Society\, #101 - 235 Bastion Street\, Nanaimo\, BC\, V9R 3A3\, Canada
CATEGORIES:Peer Support
ORGANIZER;CN="Nanaimo Brain Injury Society":MAILTO:community@nbis.ca
END:VEVENT
BEGIN:VEVENT
DTSTART;TZID=America/Vancouver:20260601T133000
DTEND;TZID=America/Vancouver:20260601T150000
DTSTAMP:20260419T225825
CREATED:20240822T231659Z
LAST-MODIFIED:20240822T231659Z
UID:22923-1780320600-1780326000@nbis.ca
SUMMARY:Client Coffee Drop-in
DESCRIPTION:Join in on our Coffee Drop-in group program for NBIS clients happening all Monday afternoons that the office is open! This is an informal get together and a great opportunity to get out of the house and connect with others. \n📅 When:    Every Monday\n⏰ Time:     1:30pm – 3:00pm\n📍 Where:   101-235 Bastion Street Nanaimo\, BC \n\n\n  \nIf interested\, please contact our Groups Program Coordinator\, Samantha: \nEmail –   groups@nbis.ca\nPhone –  250-753-5600 ext. 7\nText –      250-268-5760
URL:https://nbis.ca/event/client-coffee-drop-in-2/2026-06-01/
LOCATION:Nanaimo Brain Injury Society\, #101 - 235 Bastion Street\, Nanaimo\, BC\, V9R 3A3\, Canada
CATEGORIES:Peer Support
ATTACH;FMTTYPE=image/jpeg:https://nbis.ca/wp-content/uploads/2024/08/150929101049-black-coffee-stock.jpg
ORGANIZER;CN="Nanaimo Brain Injury Society":MAILTO:community@nbis.ca
END:VEVENT
BEGIN:VEVENT
DTSTART;TZID=UTC:20260602T100000
DTEND;TZID=UTC:20260602T111500
DTSTAMP:20260419T225825
CREATED:20200909T110226Z
LAST-MODIFIED:20200909T110226Z
UID:22871-1780394400-1780398900@nbis.ca
SUMMARY:Virtual Client Drop- In
DESCRIPTION:  \n \nThe Nanaimo Brain Injury Society is pleased to invite you to our online Virtual Client Drop-In using ZOOM! \nIf you aren’t yet a client and are interested in participating in this program\, please email intake@nbis.ca or call 250-753-5600 Ext.1. \n  \nHope to see you there!
URL:https://nbis.ca/event/virtual-client-dropin/2026-06-02/
LOCATION:Zoom\, 235 Bastion Street\, Nanaimo\, 75007\, Canada
CATEGORIES:Peer Support
ATTACH;FMTTYPE=image/png:https://nbis.ca/wp-content/uploads/2020/09/Screenshot-2024-06-11-141326.png
ORGANIZER;CN="Nanaimo Brain Injury Society":MAILTO:community@nbis.ca
END:VEVENT
BEGIN:VEVENT
DTSTART;TZID=America/Vancouver:20260603T100000
DTEND;TZID=America/Vancouver:20260603T113000
DTSTAMP:20260419T225825
CREATED:20260326T180404Z
LAST-MODIFIED:20260326T181016Z
UID:23764-1780480800-1780486200@nbis.ca
SUMMARY:Life After Brain Injury
DESCRIPTION:*You must register for this event before attending* \nAn informational flyer titled Life After Brain Injury describes an 8-week life after brain injury program with highlights\, a colorful brain illustration\, check mark icons\, and contact details for NBIS\, including email and phone numbers.
URL:https://nbis.ca/event/life-after-brain-injury-2/2026-06-03/
LOCATION:Nanaimo Brain Injury Society\, #101 - 235 Bastion Street\, Nanaimo\, BC\, V9R 3A3\, Canada
CATEGORIES:Community Workshop,Peer Support
ORGANIZER;CN="Nanaimo Brain Injury Society":MAILTO:community@nbis.ca
END:VEVENT
BEGIN:VEVENT
DTSTART;TZID=America/Vancouver:20260604T100000
DTEND;TZID=America/Vancouver:20260604T120000
DTSTAMP:20260419T225825
CREATED:20260128T234026Z
LAST-MODIFIED:20260326T174800Z
UID:23006-1780567200-1780574400@nbis.ca
SUMMARY:Social Program: TBD
DESCRIPTION:  \nFor more information\, or to register for an event\, please contact Groups Program Coordinator\, Samantha. \nEmail:  Groups@nbis.ca \nText:     250-268-5760 \nCall:      250-753-5600 Ext. 7 \n  \n  \nThe NBIS Social Program is funded by the BC Brain Injury Alliance.
URL:https://nbis.ca/event/social-program-tbd-2026-03-19/2026-06-04/
LOCATION:Nanaimo Brain Injury Society\, #101 - 235 Bastion Street\, Nanaimo\, BC\, V9R 3A3\, Canada
CATEGORIES:Peer Support
ORGANIZER;CN="Nanaimo Brain Injury Society":MAILTO:community@nbis.ca
END:VEVENT
BEGIN:VEVENT
DTSTART;TZID=America/Vancouver:20260608T133000
DTEND;TZID=America/Vancouver:20260608T150000
DTSTAMP:20260419T225825
CREATED:20240822T231659Z
LAST-MODIFIED:20240822T231659Z
UID:22924-1780925400-1780930800@nbis.ca
SUMMARY:Client Coffee Drop-in
DESCRIPTION:Join in on our Coffee Drop-in group program for NBIS clients happening all Monday afternoons that the office is open! This is an informal get together and a great opportunity to get out of the house and connect with others. \n📅 When:    Every Monday\n⏰ Time:     1:30pm – 3:00pm\n📍 Where:   101-235 Bastion Street Nanaimo\, BC \n\n\n  \nIf interested\, please contact our Groups Program Coordinator\, Samantha: \nEmail –   groups@nbis.ca\nPhone –  250-753-5600 ext. 7\nText –      250-268-5760
URL:https://nbis.ca/event/client-coffee-drop-in-2/2026-06-08/
LOCATION:Nanaimo Brain Injury Society\, #101 - 235 Bastion Street\, Nanaimo\, BC\, V9R 3A3\, Canada
CATEGORIES:Peer Support
ATTACH;FMTTYPE=image/jpeg:https://nbis.ca/wp-content/uploads/2024/08/150929101049-black-coffee-stock.jpg
ORGANIZER;CN="Nanaimo Brain Injury Society":MAILTO:community@nbis.ca
END:VEVENT
BEGIN:VEVENT
DTSTART;TZID=UTC:20260609T100000
DTEND;TZID=UTC:20260609T111500
DTSTAMP:20260419T225825
CREATED:20200909T110226Z
LAST-MODIFIED:20200909T110226Z
UID:22872-1780999200-1781003700@nbis.ca
SUMMARY:Virtual Client Drop- In
DESCRIPTION:  \n \nThe Nanaimo Brain Injury Society is pleased to invite you to our online Virtual Client Drop-In using ZOOM! \nIf you aren’t yet a client and are interested in participating in this program\, please email intake@nbis.ca or call 250-753-5600 Ext.1. \n  \nHope to see you there!
URL:https://nbis.ca/event/virtual-client-dropin/2026-06-09/
LOCATION:Zoom\, 235 Bastion Street\, Nanaimo\, 75007\, Canada
CATEGORIES:Peer Support
ATTACH;FMTTYPE=image/png:https://nbis.ca/wp-content/uploads/2020/09/Screenshot-2024-06-11-141326.png
ORGANIZER;CN="Nanaimo Brain Injury Society":MAILTO:community@nbis.ca
END:VEVENT
BEGIN:VEVENT
DTSTART;TZID=America/Vancouver:20260610T100000
DTEND;TZID=America/Vancouver:20260610T113000
DTSTAMP:20260419T225825
CREATED:20260326T180404Z
LAST-MODIFIED:20260326T181016Z
UID:23765-1781085600-1781091000@nbis.ca
SUMMARY:Life After Brain Injury
DESCRIPTION:*You must register for this event before attending* \nAn informational flyer titled Life After Brain Injury describes an 8-week life after brain injury program with highlights\, a colorful brain illustration\, check mark icons\, and contact details for NBIS\, including email and phone numbers.
URL:https://nbis.ca/event/life-after-brain-injury-2/2026-06-10/
LOCATION:Nanaimo Brain Injury Society\, #101 - 235 Bastion Street\, Nanaimo\, BC\, V9R 3A3\, Canada
CATEGORIES:Community Workshop,Peer Support
ORGANIZER;CN="Nanaimo Brain Injury Society":MAILTO:community@nbis.ca
END:VEVENT
BEGIN:VEVENT
DTSTART;TZID=America/Vancouver:20260611T100000
DTEND;TZID=America/Vancouver:20260611T120000
DTSTAMP:20260419T225825
CREATED:20260128T234026Z
LAST-MODIFIED:20260326T174800Z
UID:23007-1781172000-1781179200@nbis.ca
SUMMARY:Social Program: TBD
DESCRIPTION:  \nFor more information\, or to register for an event\, please contact Groups Program Coordinator\, Samantha. \nEmail:  Groups@nbis.ca \nText:     250-268-5760 \nCall:      250-753-5600 Ext. 7 \n  \n  \nThe NBIS Social Program is funded by the BC Brain Injury Alliance.
URL:https://nbis.ca/event/social-program-tbd-2026-03-19/2026-06-11/
LOCATION:Nanaimo Brain Injury Society\, #101 - 235 Bastion Street\, Nanaimo\, BC\, V9R 3A3\, Canada
CATEGORIES:Peer Support
ORGANIZER;CN="Nanaimo Brain Injury Society":MAILTO:community@nbis.ca
END:VEVENT
END:VCALENDAR