BEGIN:VCALENDAR
VERSION:2.0
PRODID:-//Nanaimo Brain Injury Society - ECPv6.15.20//NONSGML v1.0//EN
CALSCALE:GREGORIAN
METHOD:PUBLISH
X-WR-CALNAME:Nanaimo Brain Injury Society
X-ORIGINAL-URL:https://nbis.ca
X-WR-CALDESC:Events for Nanaimo Brain Injury Society
REFRESH-INTERVAL;VALUE=DURATION:PT1H
X-Robots-Tag:noindex
X-PUBLISHED-TTL:PT1H
BEGIN:VTIMEZONE
TZID:America/Vancouver
BEGIN:DAYLIGHT
TZOFFSETFROM:-0800
TZOFFSETTO:-0700
TZNAME:PDT
DTSTART:20270314T100000
END:DAYLIGHT
BEGIN:STANDARD
TZOFFSETFROM:-0700
TZOFFSETTO:-0800
TZNAME:PST
DTSTART:20271107T090000
END:STANDARD
BEGIN:DAYLIGHT
TZOFFSETFROM:-0800
TZOFFSETTO:-0700
TZNAME:PDT
DTSTART:20280312T100000
END:DAYLIGHT
BEGIN:STANDARD
TZOFFSETFROM:-0700
TZOFFSETTO:-0800
TZNAME:PST
DTSTART:20281105T090000
END:STANDARD
BEGIN:DAYLIGHT
TZOFFSETFROM:-0800
TZOFFSETTO:-0700
TZNAME:PDT
DTSTART:20290311T100000
END:DAYLIGHT
BEGIN:STANDARD
TZOFFSETFROM:-0700
TZOFFSETTO:-0800
TZNAME:PST
DTSTART:20291104T090000
END:STANDARD
END:VTIMEZONE
BEGIN:VEVENT
DTSTART;TZID=America/Vancouver:20280127T100000
DTEND;TZID=America/Vancouver:20280127T120000
DTSTAMP:20260420T203753
CREATED:20260128T234026Z
LAST-MODIFIED:20260326T213557Z
UID:23092-1832580000-1832587200@nbis.ca
SUMMARY:Social Program: TBD
DESCRIPTION:  \nFor more information\, or to register for an event\, please contact Groups Program Coordinator\, Samantha. \nEmail:  Groups@nbis.ca \nText:     250-268-5760 \nCall:      250-753-5600 Ext. 7 \n  \n  \nThe NBIS Social Program is funded by the BC Brain Injury Alliance.
URL:https://nbis.ca/event/social-program-tbd-2026-03-19/2028-01-27/
LOCATION:Nanaimo Brain Injury Society\, #101 - 235 Bastion Street\, Nanaimo\, BC\, V9R 3A3\, Canada
CATEGORIES:Peer Support
ORGANIZER;CN="Nanaimo Brain Injury Society":MAILTO:community@nbis.ca
END:VEVENT
BEGIN:VEVENT
DTSTART;TZID=America/Vancouver:20280203T100000
DTEND;TZID=America/Vancouver:20280203T120000
DTSTAMP:20260420T203753
CREATED:20260128T234026Z
LAST-MODIFIED:20260326T213558Z
UID:23109-1833184800-1833192000@nbis.ca
SUMMARY:Social Program: TBD
DESCRIPTION:  \nFor more information\, or to register for an event\, please contact Groups Program Coordinator\, Samantha. \nEmail:  Groups@nbis.ca \nText:     250-268-5760 \nCall:      250-753-5600 Ext. 7 \n  \n  \nThe NBIS Social Program is funded by the BC Brain Injury Alliance.
URL:https://nbis.ca/event/social-program-tbd-2026-03-19/2028-02-03/
LOCATION:Nanaimo Brain Injury Society\, #101 - 235 Bastion Street\, Nanaimo\, BC\, V9R 3A3\, Canada
CATEGORIES:Peer Support
ORGANIZER;CN="Nanaimo Brain Injury Society":MAILTO:community@nbis.ca
END:VEVENT
BEGIN:VEVENT
DTSTART;TZID=America/Vancouver:20280210T100000
DTEND;TZID=America/Vancouver:20280210T120000
DTSTAMP:20260420T203753
CREATED:20260128T234026Z
LAST-MODIFIED:20260326T213558Z
UID:23110-1833789600-1833796800@nbis.ca
SUMMARY:Social Program: TBD
DESCRIPTION:  \nFor more information\, or to register for an event\, please contact Groups Program Coordinator\, Samantha. \nEmail:  Groups@nbis.ca \nText:     250-268-5760 \nCall:      250-753-5600 Ext. 7 \n  \n  \nThe NBIS Social Program is funded by the BC Brain Injury Alliance.
URL:https://nbis.ca/event/social-program-tbd-2026-03-19/2028-02-10/
LOCATION:Nanaimo Brain Injury Society\, #101 - 235 Bastion Street\, Nanaimo\, BC\, V9R 3A3\, Canada
CATEGORIES:Peer Support
ORGANIZER;CN="Nanaimo Brain Injury Society":MAILTO:community@nbis.ca
END:VEVENT
BEGIN:VEVENT
DTSTART;TZID=America/Vancouver:20280217T100000
DTEND;TZID=America/Vancouver:20280217T120000
DTSTAMP:20260420T203753
CREATED:20260128T234026Z
LAST-MODIFIED:20260326T213558Z
UID:23325-1834394400-1834401600@nbis.ca
SUMMARY:Social Program: TBD
DESCRIPTION:  \nFor more information\, or to register for an event\, please contact Groups Program Coordinator\, Samantha. \nEmail:  Groups@nbis.ca \nText:     250-268-5760 \nCall:      250-753-5600 Ext. 7 \n  \n  \nThe NBIS Social Program is funded by the BC Brain Injury Alliance.
URL:https://nbis.ca/event/social-program-tbd-2026-03-19/2028-02-17/
LOCATION:Nanaimo Brain Injury Society\, #101 - 235 Bastion Street\, Nanaimo\, BC\, V9R 3A3\, Canada
CATEGORIES:Peer Support
ORGANIZER;CN="Nanaimo Brain Injury Society":MAILTO:community@nbis.ca
END:VEVENT
BEGIN:VEVENT
DTSTART;TZID=America/Vancouver:20280224T100000
DTEND;TZID=America/Vancouver:20280224T120000
DTSTAMP:20260420T203753
CREATED:20260128T234026Z
LAST-MODIFIED:20260326T213558Z
UID:23357-1834999200-1835006400@nbis.ca
SUMMARY:Social Program: TBD
DESCRIPTION:  \nFor more information\, or to register for an event\, please contact Groups Program Coordinator\, Samantha. \nEmail:  Groups@nbis.ca \nText:     250-268-5760 \nCall:      250-753-5600 Ext. 7 \n  \n  \nThe NBIS Social Program is funded by the BC Brain Injury Alliance.
URL:https://nbis.ca/event/social-program-tbd-2026-03-19/2028-02-24/
LOCATION:Nanaimo Brain Injury Society\, #101 - 235 Bastion Street\, Nanaimo\, BC\, V9R 3A3\, Canada
CATEGORIES:Peer Support
ORGANIZER;CN="Nanaimo Brain Injury Society":MAILTO:community@nbis.ca
END:VEVENT
BEGIN:VEVENT
DTSTART;TZID=America/Vancouver:20280302T100000
DTEND;TZID=America/Vancouver:20280302T120000
DTSTAMP:20260420T203753
CREATED:20260128T234026Z
LAST-MODIFIED:20260326T213558Z
UID:23408-1835604000-1835611200@nbis.ca
SUMMARY:Social Program: TBD
DESCRIPTION:  \nFor more information\, or to register for an event\, please contact Groups Program Coordinator\, Samantha. \nEmail:  Groups@nbis.ca \nText:     250-268-5760 \nCall:      250-753-5600 Ext. 7 \n  \n  \nThe NBIS Social Program is funded by the BC Brain Injury Alliance.
URL:https://nbis.ca/event/social-program-tbd-2026-03-19/2028-03-02/
LOCATION:Nanaimo Brain Injury Society\, #101 - 235 Bastion Street\, Nanaimo\, BC\, V9R 3A3\, Canada
CATEGORIES:Peer Support
ORGANIZER;CN="Nanaimo Brain Injury Society":MAILTO:community@nbis.ca
END:VEVENT
BEGIN:VEVENT
DTSTART;TZID=America/Vancouver:20280309T100000
DTEND;TZID=America/Vancouver:20280309T120000
DTSTAMP:20260420T203753
CREATED:20260128T234026Z
LAST-MODIFIED:20260326T213558Z
UID:23451-1836208800-1836216000@nbis.ca
SUMMARY:Social Program: TBD
DESCRIPTION:  \nFor more information\, or to register for an event\, please contact Groups Program Coordinator\, Samantha. \nEmail:  Groups@nbis.ca \nText:     250-268-5760 \nCall:      250-753-5600 Ext. 7 \n  \n  \nThe NBIS Social Program is funded by the BC Brain Injury Alliance.
URL:https://nbis.ca/event/social-program-tbd-2026-03-19/2028-03-09/
LOCATION:Nanaimo Brain Injury Society\, #101 - 235 Bastion Street\, Nanaimo\, BC\, V9R 3A3\, Canada
CATEGORIES:Peer Support
ORGANIZER;CN="Nanaimo Brain Injury Society":MAILTO:community@nbis.ca
END:VEVENT
BEGIN:VEVENT
DTSTART;TZID=America/Vancouver:20280316T100000
DTEND;TZID=America/Vancouver:20280316T120000
DTSTAMP:20260420T203753
CREATED:20260128T234026Z
LAST-MODIFIED:20260326T213558Z
UID:23460-1836813600-1836820800@nbis.ca
SUMMARY:Social Program: TBD
DESCRIPTION:  \nFor more information\, or to register for an event\, please contact Groups Program Coordinator\, Samantha. \nEmail:  Groups@nbis.ca \nText:     250-268-5760 \nCall:      250-753-5600 Ext. 7 \n  \n  \nThe NBIS Social Program is funded by the BC Brain Injury Alliance.
URL:https://nbis.ca/event/social-program-tbd-2026-03-19/2028-03-16/
LOCATION:Nanaimo Brain Injury Society\, #101 - 235 Bastion Street\, Nanaimo\, BC\, V9R 3A3\, Canada
CATEGORIES:Peer Support
ORGANIZER;CN="Nanaimo Brain Injury Society":MAILTO:community@nbis.ca
END:VEVENT
BEGIN:VEVENT
DTSTART;TZID=America/Vancouver:20280323T100000
DTEND;TZID=America/Vancouver:20280323T120000
DTSTAMP:20260420T203753
CREATED:20260128T234026Z
LAST-MODIFIED:20260326T213558Z
UID:23467-1837418400-1837425600@nbis.ca
SUMMARY:Social Program: TBD
DESCRIPTION:  \nFor more information\, or to register for an event\, please contact Groups Program Coordinator\, Samantha. \nEmail:  Groups@nbis.ca \nText:     250-268-5760 \nCall:      250-753-5600 Ext. 7 \n  \n  \nThe NBIS Social Program is funded by the BC Brain Injury Alliance.
URL:https://nbis.ca/event/social-program-tbd-2026-03-19/2028-03-23/
LOCATION:Nanaimo Brain Injury Society\, #101 - 235 Bastion Street\, Nanaimo\, BC\, V9R 3A3\, Canada
CATEGORIES:Peer Support
ORGANIZER;CN="Nanaimo Brain Injury Society":MAILTO:community@nbis.ca
END:VEVENT
BEGIN:VEVENT
DTSTART;TZID=America/Vancouver:20280330T100000
DTEND;TZID=America/Vancouver:20280330T120000
DTSTAMP:20260420T203753
CREATED:20260128T234026Z
LAST-MODIFIED:20260128T234026Z
UID:23882-1838023200-1838030400@nbis.ca
SUMMARY:Social Program: TBD
DESCRIPTION:  \nFor more information\, or to register for an event\, please contact Groups Program Coordinator\, Samantha. \nEmail:  Groups@nbis.ca \nText:     250-268-5760 \nCall:      250-753-5600 Ext. 7 \n  \n  \nThe NBIS Social Program is funded by the BC Brain Injury Alliance.
URL:https://nbis.ca/event/social-program-tbd-2026-03-19/2028-03-30/
LOCATION:Nanaimo Brain Injury Society\, #101 - 235 Bastion Street\, Nanaimo\, BC\, V9R 3A3\, Canada
CATEGORIES:Peer Support
ORGANIZER;CN="Nanaimo Brain Injury Society":MAILTO:community@nbis.ca
END:VEVENT
BEGIN:VEVENT
DTSTART;TZID=America/Vancouver:20280406T100000
DTEND;TZID=America/Vancouver:20280406T120000
DTSTAMP:20260420T203753
CREATED:20260128T234026Z
LAST-MODIFIED:20260128T234026Z
UID:23883-1838628000-1838635200@nbis.ca
SUMMARY:Social Program: TBD
DESCRIPTION:  \nFor more information\, or to register for an event\, please contact Groups Program Coordinator\, Samantha. \nEmail:  Groups@nbis.ca \nText:     250-268-5760 \nCall:      250-753-5600 Ext. 7 \n  \n  \nThe NBIS Social Program is funded by the BC Brain Injury Alliance.
URL:https://nbis.ca/event/social-program-tbd-2026-03-19/2028-04-06/
LOCATION:Nanaimo Brain Injury Society\, #101 - 235 Bastion Street\, Nanaimo\, BC\, V9R 3A3\, Canada
CATEGORIES:Peer Support
ORGANIZER;CN="Nanaimo Brain Injury Society":MAILTO:community@nbis.ca
END:VEVENT
BEGIN:VEVENT
DTSTART;TZID=America/Vancouver:20280413T100000
DTEND;TZID=America/Vancouver:20280413T120000
DTSTAMP:20260420T203753
CREATED:20260128T234026Z
LAST-MODIFIED:20260128T234026Z
UID:23899-1839232800-1839240000@nbis.ca
SUMMARY:Social Program: TBD
DESCRIPTION:  \nFor more information\, or to register for an event\, please contact Groups Program Coordinator\, Samantha. \nEmail:  Groups@nbis.ca \nText:     250-268-5760 \nCall:      250-753-5600 Ext. 7 \n  \n  \nThe NBIS Social Program is funded by the BC Brain Injury Alliance.
URL:https://nbis.ca/event/social-program-tbd-2026-03-19/2028-04-13/
LOCATION:Nanaimo Brain Injury Society\, #101 - 235 Bastion Street\, Nanaimo\, BC\, V9R 3A3\, Canada
CATEGORIES:Peer Support
ORGANIZER;CN="Nanaimo Brain Injury Society":MAILTO:community@nbis.ca
END:VEVENT
END:VCALENDAR