BEGIN:VCALENDAR
VERSION:2.0
PRODID:-//Nanaimo Brain Injury Society - ECPv6.15.20//NONSGML v1.0//EN
CALSCALE:GREGORIAN
METHOD:PUBLISH
X-ORIGINAL-URL:https://nbis.ca
X-WR-CALDESC:Events for Nanaimo Brain Injury Society
REFRESH-INTERVAL;VALUE=DURATION:PT1H
X-Robots-Tag:noindex
X-PUBLISHED-TTL:PT1H
BEGIN:VTIMEZONE
TZID:America/Vancouver
BEGIN:DAYLIGHT
TZOFFSETFROM:-0800
TZOFFSETTO:-0700
TZNAME:PDT
DTSTART:20250309T100000
END:DAYLIGHT
BEGIN:STANDARD
TZOFFSETFROM:-0700
TZOFFSETTO:-0800
TZNAME:PST
DTSTART:20251102T090000
END:STANDARD
BEGIN:DAYLIGHT
TZOFFSETFROM:-0800
TZOFFSETTO:-0700
TZNAME:PDT
DTSTART:20260308T100000
END:DAYLIGHT
BEGIN:STANDARD
TZOFFSETFROM:-0700
TZOFFSETTO:-0800
TZNAME:PST
DTSTART:20261101T090000
END:STANDARD
BEGIN:DAYLIGHT
TZOFFSETFROM:-0800
TZOFFSETTO:-0700
TZNAME:PDT
DTSTART:20270314T100000
END:DAYLIGHT
BEGIN:STANDARD
TZOFFSETFROM:-0700
TZOFFSETTO:-0800
TZNAME:PST
DTSTART:20271107T090000
END:STANDARD
BEGIN:DAYLIGHT
TZOFFSETFROM:-0800
TZOFFSETTO:-0700
TZNAME:PDT
DTSTART:20280312T100000
END:DAYLIGHT
BEGIN:STANDARD
TZOFFSETFROM:-0700
TZOFFSETTO:-0800
TZNAME:PST
DTSTART:20281105T090000
END:STANDARD
END:VTIMEZONE
BEGIN:VEVENT
DTSTART;TZID=America/Vancouver:20261119T100000
DTEND;TZID=America/Vancouver:20261119T120000
DTSTAMP:20260420T051440
CREATED:20260128T234026Z
LAST-MODIFIED:20260326T174805Z
UID:23030-1795082400-1795089600@nbis.ca
SUMMARY:Social Program: TBD
DESCRIPTION:  \nFor more information\, or to register for an event\, please contact Groups Program Coordinator\, Samantha. \nEmail:  Groups@nbis.ca \nText:     250-268-5760 \nCall:      250-753-5600 Ext. 7 \n  \n  \nThe NBIS Social Program is funded by the BC Brain Injury Alliance.
URL:https://nbis.ca/event/social-program-tbd-2026-03-19/2026-11-19/
LOCATION:Nanaimo Brain Injury Society\, #101 - 235 Bastion Street\, Nanaimo\, BC\, V9R 3A3\, Canada
CATEGORIES:Peer Support
ORGANIZER;CN="Nanaimo Brain Injury Society":MAILTO:community@nbis.ca
END:VEVENT
BEGIN:VEVENT
DTSTART;TZID=America/Vancouver:20261123T133000
DTEND;TZID=America/Vancouver:20261123T150000
DTSTAMP:20260420T051440
CREATED:20240822T231659Z
LAST-MODIFIED:20240822T231659Z
UID:22945-1795440600-1795446000@nbis.ca
SUMMARY:Client Coffee Drop-in
DESCRIPTION:Join in on our Coffee Drop-in group program for NBIS clients happening all Monday afternoons that the office is open! This is an informal get together and a great opportunity to get out of the house and connect with others. \n📅 When:    Every Monday\n⏰ Time:     1:30pm – 3:00pm\n📍 Where:   101-235 Bastion Street Nanaimo\, BC \n\n\n  \nIf interested\, please contact our Groups Program Coordinator\, Samantha: \nEmail –   groups@nbis.ca\nPhone –  250-753-5600 ext. 7\nText –      250-268-5760
URL:https://nbis.ca/event/client-coffee-drop-in-2/2026-11-23/
LOCATION:Nanaimo Brain Injury Society\, #101 - 235 Bastion Street\, Nanaimo\, BC\, V9R 3A3\, Canada
CATEGORIES:Peer Support
ATTACH;FMTTYPE=image/jpeg:https://nbis.ca/wp-content/uploads/2024/08/150929101049-black-coffee-stock.jpg
ORGANIZER;CN="Nanaimo Brain Injury Society":MAILTO:community@nbis.ca
END:VEVENT
BEGIN:VEVENT
DTSTART;TZID=America/Vancouver:20261126T100000
DTEND;TZID=America/Vancouver:20261126T120000
DTSTAMP:20260420T051440
CREATED:20260128T234026Z
LAST-MODIFIED:20260326T174805Z
UID:23031-1795687200-1795694400@nbis.ca
SUMMARY:Social Program: TBD
DESCRIPTION:  \nFor more information\, or to register for an event\, please contact Groups Program Coordinator\, Samantha. \nEmail:  Groups@nbis.ca \nText:     250-268-5760 \nCall:      250-753-5600 Ext. 7 \n  \n  \nThe NBIS Social Program is funded by the BC Brain Injury Alliance.
URL:https://nbis.ca/event/social-program-tbd-2026-03-19/2026-11-26/
LOCATION:Nanaimo Brain Injury Society\, #101 - 235 Bastion Street\, Nanaimo\, BC\, V9R 3A3\, Canada
CATEGORIES:Peer Support
ORGANIZER;CN="Nanaimo Brain Injury Society":MAILTO:community@nbis.ca
END:VEVENT
BEGIN:VEVENT
DTSTART;TZID=America/Vancouver:20261130T133000
DTEND;TZID=America/Vancouver:20261130T150000
DTSTAMP:20260420T051440
CREATED:20240822T231659Z
LAST-MODIFIED:20240822T231659Z
UID:22946-1796045400-1796050800@nbis.ca
SUMMARY:Client Coffee Drop-in
DESCRIPTION:Join in on our Coffee Drop-in group program for NBIS clients happening all Monday afternoons that the office is open! This is an informal get together and a great opportunity to get out of the house and connect with others. \n📅 When:    Every Monday\n⏰ Time:     1:30pm – 3:00pm\n📍 Where:   101-235 Bastion Street Nanaimo\, BC \n\n\n  \nIf interested\, please contact our Groups Program Coordinator\, Samantha: \nEmail –   groups@nbis.ca\nPhone –  250-753-5600 ext. 7\nText –      250-268-5760
URL:https://nbis.ca/event/client-coffee-drop-in-2/2026-11-30/
LOCATION:Nanaimo Brain Injury Society\, #101 - 235 Bastion Street\, Nanaimo\, BC\, V9R 3A3\, Canada
CATEGORIES:Peer Support
ATTACH;FMTTYPE=image/jpeg:https://nbis.ca/wp-content/uploads/2024/08/150929101049-black-coffee-stock.jpg
ORGANIZER;CN="Nanaimo Brain Injury Society":MAILTO:community@nbis.ca
END:VEVENT
BEGIN:VEVENT
DTSTART;TZID=America/Vancouver:20261203T100000
DTEND;TZID=America/Vancouver:20261203T120000
DTSTAMP:20260420T051440
CREATED:20260128T234026Z
LAST-MODIFIED:20260326T174805Z
UID:23032-1796292000-1796299200@nbis.ca
SUMMARY:Social Program: TBD
DESCRIPTION:  \nFor more information\, or to register for an event\, please contact Groups Program Coordinator\, Samantha. \nEmail:  Groups@nbis.ca \nText:     250-268-5760 \nCall:      250-753-5600 Ext. 7 \n  \n  \nThe NBIS Social Program is funded by the BC Brain Injury Alliance.
URL:https://nbis.ca/event/social-program-tbd-2026-03-19/2026-12-03/
LOCATION:Nanaimo Brain Injury Society\, #101 - 235 Bastion Street\, Nanaimo\, BC\, V9R 3A3\, Canada
CATEGORIES:Peer Support
ORGANIZER;CN="Nanaimo Brain Injury Society":MAILTO:community@nbis.ca
END:VEVENT
BEGIN:VEVENT
DTSTART;TZID=America/Vancouver:20261207T133000
DTEND;TZID=America/Vancouver:20261207T150000
DTSTAMP:20260420T051440
CREATED:20240822T231659Z
LAST-MODIFIED:20240822T231659Z
UID:22947-1796650200-1796655600@nbis.ca
SUMMARY:Client Coffee Drop-in
DESCRIPTION:Join in on our Coffee Drop-in group program for NBIS clients happening all Monday afternoons that the office is open! This is an informal get together and a great opportunity to get out of the house and connect with others. \n📅 When:    Every Monday\n⏰ Time:     1:30pm – 3:00pm\n📍 Where:   101-235 Bastion Street Nanaimo\, BC \n\n\n  \nIf interested\, please contact our Groups Program Coordinator\, Samantha: \nEmail –   groups@nbis.ca\nPhone –  250-753-5600 ext. 7\nText –      250-268-5760
URL:https://nbis.ca/event/client-coffee-drop-in-2/2026-12-07/
LOCATION:Nanaimo Brain Injury Society\, #101 - 235 Bastion Street\, Nanaimo\, BC\, V9R 3A3\, Canada
CATEGORIES:Peer Support
ATTACH;FMTTYPE=image/jpeg:https://nbis.ca/wp-content/uploads/2024/08/150929101049-black-coffee-stock.jpg
ORGANIZER;CN="Nanaimo Brain Injury Society":MAILTO:community@nbis.ca
END:VEVENT
BEGIN:VEVENT
DTSTART;TZID=America/Vancouver:20261210T100000
DTEND;TZID=America/Vancouver:20261210T120000
DTSTAMP:20260420T051440
CREATED:20260128T234026Z
LAST-MODIFIED:20260326T174805Z
UID:23033-1796896800-1796904000@nbis.ca
SUMMARY:Social Program: TBD
DESCRIPTION:  \nFor more information\, or to register for an event\, please contact Groups Program Coordinator\, Samantha. \nEmail:  Groups@nbis.ca \nText:     250-268-5760 \nCall:      250-753-5600 Ext. 7 \n  \n  \nThe NBIS Social Program is funded by the BC Brain Injury Alliance.
URL:https://nbis.ca/event/social-program-tbd-2026-03-19/2026-12-10/
LOCATION:Nanaimo Brain Injury Society\, #101 - 235 Bastion Street\, Nanaimo\, BC\, V9R 3A3\, Canada
CATEGORIES:Peer Support
ORGANIZER;CN="Nanaimo Brain Injury Society":MAILTO:community@nbis.ca
END:VEVENT
BEGIN:VEVENT
DTSTART;TZID=America/Vancouver:20261214T133000
DTEND;TZID=America/Vancouver:20261214T150000
DTSTAMP:20260420T051440
CREATED:20240822T231659Z
LAST-MODIFIED:20240822T231659Z
UID:22948-1797255000-1797260400@nbis.ca
SUMMARY:Client Coffee Drop-in
DESCRIPTION:Join in on our Coffee Drop-in group program for NBIS clients happening all Monday afternoons that the office is open! This is an informal get together and a great opportunity to get out of the house and connect with others. \n📅 When:    Every Monday\n⏰ Time:     1:30pm – 3:00pm\n📍 Where:   101-235 Bastion Street Nanaimo\, BC \n\n\n  \nIf interested\, please contact our Groups Program Coordinator\, Samantha: \nEmail –   groups@nbis.ca\nPhone –  250-753-5600 ext. 7\nText –      250-268-5760
URL:https://nbis.ca/event/client-coffee-drop-in-2/2026-12-14/
LOCATION:Nanaimo Brain Injury Society\, #101 - 235 Bastion Street\, Nanaimo\, BC\, V9R 3A3\, Canada
CATEGORIES:Peer Support
ATTACH;FMTTYPE=image/jpeg:https://nbis.ca/wp-content/uploads/2024/08/150929101049-black-coffee-stock.jpg
ORGANIZER;CN="Nanaimo Brain Injury Society":MAILTO:community@nbis.ca
END:VEVENT
BEGIN:VEVENT
DTSTART;TZID=America/Vancouver:20261217T100000
DTEND;TZID=America/Vancouver:20261217T120000
DTSTAMP:20260420T051440
CREATED:20260128T234026Z
LAST-MODIFIED:20260326T174806Z
UID:23034-1797501600-1797508800@nbis.ca
SUMMARY:Social Program: TBD
DESCRIPTION:  \nFor more information\, or to register for an event\, please contact Groups Program Coordinator\, Samantha. \nEmail:  Groups@nbis.ca \nText:     250-268-5760 \nCall:      250-753-5600 Ext. 7 \n  \n  \nThe NBIS Social Program is funded by the BC Brain Injury Alliance.
URL:https://nbis.ca/event/social-program-tbd-2026-03-19/2026-12-17/
LOCATION:Nanaimo Brain Injury Society\, #101 - 235 Bastion Street\, Nanaimo\, BC\, V9R 3A3\, Canada
CATEGORIES:Peer Support
ORGANIZER;CN="Nanaimo Brain Injury Society":MAILTO:community@nbis.ca
END:VEVENT
BEGIN:VEVENT
DTSTART;TZID=America/Vancouver:20261221T133000
DTEND;TZID=America/Vancouver:20261221T150000
DTSTAMP:20260420T051440
CREATED:20240822T231659Z
LAST-MODIFIED:20240822T231659Z
UID:22949-1797859800-1797865200@nbis.ca
SUMMARY:Client Coffee Drop-in
DESCRIPTION:Join in on our Coffee Drop-in group program for NBIS clients happening all Monday afternoons that the office is open! This is an informal get together and a great opportunity to get out of the house and connect with others. \n📅 When:    Every Monday\n⏰ Time:     1:30pm – 3:00pm\n📍 Where:   101-235 Bastion Street Nanaimo\, BC \n\n\n  \nIf interested\, please contact our Groups Program Coordinator\, Samantha: \nEmail –   groups@nbis.ca\nPhone –  250-753-5600 ext. 7\nText –      250-268-5760
URL:https://nbis.ca/event/client-coffee-drop-in-2/2026-12-21/
LOCATION:Nanaimo Brain Injury Society\, #101 - 235 Bastion Street\, Nanaimo\, BC\, V9R 3A3\, Canada
CATEGORIES:Peer Support
ATTACH;FMTTYPE=image/jpeg:https://nbis.ca/wp-content/uploads/2024/08/150929101049-black-coffee-stock.jpg
ORGANIZER;CN="Nanaimo Brain Injury Society":MAILTO:community@nbis.ca
END:VEVENT
BEGIN:VEVENT
DTSTART;TZID=America/Vancouver:20261231T100000
DTEND;TZID=America/Vancouver:20261231T120000
DTSTAMP:20260420T051440
CREATED:20260128T234026Z
LAST-MODIFIED:20260326T174806Z
UID:23036-1798711200-1798718400@nbis.ca
SUMMARY:Social Program: TBD
DESCRIPTION:  \nFor more information\, or to register for an event\, please contact Groups Program Coordinator\, Samantha. \nEmail:  Groups@nbis.ca \nText:     250-268-5760 \nCall:      250-753-5600 Ext. 7 \n  \n  \nThe NBIS Social Program is funded by the BC Brain Injury Alliance.
URL:https://nbis.ca/event/social-program-tbd-2026-03-19/2026-12-31/
LOCATION:Nanaimo Brain Injury Society\, #101 - 235 Bastion Street\, Nanaimo\, BC\, V9R 3A3\, Canada
CATEGORIES:Peer Support
ORGANIZER;CN="Nanaimo Brain Injury Society":MAILTO:community@nbis.ca
END:VEVENT
BEGIN:VEVENT
DTSTART;TZID=America/Vancouver:20270107T100000
DTEND;TZID=America/Vancouver:20270107T120000
DTSTAMP:20260420T051440
CREATED:20260128T234026Z
LAST-MODIFIED:20260326T174806Z
UID:23037-1799316000-1799323200@nbis.ca
SUMMARY:Social Program: TBD
DESCRIPTION:  \nFor more information\, or to register for an event\, please contact Groups Program Coordinator\, Samantha. \nEmail:  Groups@nbis.ca \nText:     250-268-5760 \nCall:      250-753-5600 Ext. 7 \n  \n  \nThe NBIS Social Program is funded by the BC Brain Injury Alliance.
URL:https://nbis.ca/event/social-program-tbd-2026-03-19/2027-01-07/
LOCATION:Nanaimo Brain Injury Society\, #101 - 235 Bastion Street\, Nanaimo\, BC\, V9R 3A3\, Canada
CATEGORIES:Peer Support
ORGANIZER;CN="Nanaimo Brain Injury Society":MAILTO:community@nbis.ca
END:VEVENT
BEGIN:VEVENT
DTSTART;TZID=America/Vancouver:20270114T100000
DTEND;TZID=America/Vancouver:20270114T120000
DTSTAMP:20260420T051440
CREATED:20260128T234026Z
LAST-MODIFIED:20260326T174806Z
UID:23038-1799920800-1799928000@nbis.ca
SUMMARY:Social Program: TBD
DESCRIPTION:  \nFor more information\, or to register for an event\, please contact Groups Program Coordinator\, Samantha. \nEmail:  Groups@nbis.ca \nText:     250-268-5760 \nCall:      250-753-5600 Ext. 7 \n  \n  \nThe NBIS Social Program is funded by the BC Brain Injury Alliance.
URL:https://nbis.ca/event/social-program-tbd-2026-03-19/2027-01-14/
LOCATION:Nanaimo Brain Injury Society\, #101 - 235 Bastion Street\, Nanaimo\, BC\, V9R 3A3\, Canada
CATEGORIES:Peer Support
ORGANIZER;CN="Nanaimo Brain Injury Society":MAILTO:community@nbis.ca
END:VEVENT
BEGIN:VEVENT
DTSTART;TZID=America/Vancouver:20270121T100000
DTEND;TZID=America/Vancouver:20270121T120000
DTSTAMP:20260420T051440
CREATED:20260128T234026Z
LAST-MODIFIED:20260326T174806Z
UID:23039-1800525600-1800532800@nbis.ca
SUMMARY:Social Program: TBD
DESCRIPTION:  \nFor more information\, or to register for an event\, please contact Groups Program Coordinator\, Samantha. \nEmail:  Groups@nbis.ca \nText:     250-268-5760 \nCall:      250-753-5600 Ext. 7 \n  \n  \nThe NBIS Social Program is funded by the BC Brain Injury Alliance.
URL:https://nbis.ca/event/social-program-tbd-2026-03-19/2027-01-21/
LOCATION:Nanaimo Brain Injury Society\, #101 - 235 Bastion Street\, Nanaimo\, BC\, V9R 3A3\, Canada
CATEGORIES:Peer Support
ORGANIZER;CN="Nanaimo Brain Injury Society":MAILTO:community@nbis.ca
END:VEVENT
BEGIN:VEVENT
DTSTART;TZID=America/Vancouver:20270128T100000
DTEND;TZID=America/Vancouver:20270128T120000
DTSTAMP:20260420T051440
CREATED:20260128T234026Z
LAST-MODIFIED:20260326T174806Z
UID:23040-1801130400-1801137600@nbis.ca
SUMMARY:Social Program: TBD
DESCRIPTION:  \nFor more information\, or to register for an event\, please contact Groups Program Coordinator\, Samantha. \nEmail:  Groups@nbis.ca \nText:     250-268-5760 \nCall:      250-753-5600 Ext. 7 \n  \n  \nThe NBIS Social Program is funded by the BC Brain Injury Alliance.
URL:https://nbis.ca/event/social-program-tbd-2026-03-19/2027-01-28/
LOCATION:Nanaimo Brain Injury Society\, #101 - 235 Bastion Street\, Nanaimo\, BC\, V9R 3A3\, Canada
CATEGORIES:Peer Support
ORGANIZER;CN="Nanaimo Brain Injury Society":MAILTO:community@nbis.ca
END:VEVENT
BEGIN:VEVENT
DTSTART;TZID=America/Vancouver:20270204T100000
DTEND;TZID=America/Vancouver:20270204T120000
DTSTAMP:20260420T051440
CREATED:20260128T234026Z
LAST-MODIFIED:20260326T174807Z
UID:23041-1801735200-1801742400@nbis.ca
SUMMARY:Social Program: TBD
DESCRIPTION:  \nFor more information\, or to register for an event\, please contact Groups Program Coordinator\, Samantha. \nEmail:  Groups@nbis.ca \nText:     250-268-5760 \nCall:      250-753-5600 Ext. 7 \n  \n  \nThe NBIS Social Program is funded by the BC Brain Injury Alliance.
URL:https://nbis.ca/event/social-program-tbd-2026-03-19/2027-02-04/
LOCATION:Nanaimo Brain Injury Society\, #101 - 235 Bastion Street\, Nanaimo\, BC\, V9R 3A3\, Canada
CATEGORIES:Peer Support
ORGANIZER;CN="Nanaimo Brain Injury Society":MAILTO:community@nbis.ca
END:VEVENT
BEGIN:VEVENT
DTSTART;TZID=America/Vancouver:20270211T100000
DTEND;TZID=America/Vancouver:20270211T120000
DTSTAMP:20260420T051440
CREATED:20260128T234026Z
LAST-MODIFIED:20260326T174807Z
UID:23042-1802340000-1802347200@nbis.ca
SUMMARY:Social Program: TBD
DESCRIPTION:  \nFor more information\, or to register for an event\, please contact Groups Program Coordinator\, Samantha. \nEmail:  Groups@nbis.ca \nText:     250-268-5760 \nCall:      250-753-5600 Ext. 7 \n  \n  \nThe NBIS Social Program is funded by the BC Brain Injury Alliance.
URL:https://nbis.ca/event/social-program-tbd-2026-03-19/2027-02-11/
LOCATION:Nanaimo Brain Injury Society\, #101 - 235 Bastion Street\, Nanaimo\, BC\, V9R 3A3\, Canada
CATEGORIES:Peer Support
ORGANIZER;CN="Nanaimo Brain Injury Society":MAILTO:community@nbis.ca
END:VEVENT
BEGIN:VEVENT
DTSTART;TZID=America/Vancouver:20270218T100000
DTEND;TZID=America/Vancouver:20270218T120000
DTSTAMP:20260420T051440
CREATED:20260128T234026Z
LAST-MODIFIED:20260326T174807Z
UID:23043-1802944800-1802952000@nbis.ca
SUMMARY:Social Program: TBD
DESCRIPTION:  \nFor more information\, or to register for an event\, please contact Groups Program Coordinator\, Samantha. \nEmail:  Groups@nbis.ca \nText:     250-268-5760 \nCall:      250-753-5600 Ext. 7 \n  \n  \nThe NBIS Social Program is funded by the BC Brain Injury Alliance.
URL:https://nbis.ca/event/social-program-tbd-2026-03-19/2027-02-18/
LOCATION:Nanaimo Brain Injury Society\, #101 - 235 Bastion Street\, Nanaimo\, BC\, V9R 3A3\, Canada
CATEGORIES:Peer Support
ORGANIZER;CN="Nanaimo Brain Injury Society":MAILTO:community@nbis.ca
END:VEVENT
BEGIN:VEVENT
DTSTART;TZID=America/Vancouver:20270225T100000
DTEND;TZID=America/Vancouver:20270225T120000
DTSTAMP:20260420T051440
CREATED:20260128T234026Z
LAST-MODIFIED:20260326T174807Z
UID:23044-1803549600-1803556800@nbis.ca
SUMMARY:Social Program: TBD
DESCRIPTION:  \nFor more information\, or to register for an event\, please contact Groups Program Coordinator\, Samantha. \nEmail:  Groups@nbis.ca \nText:     250-268-5760 \nCall:      250-753-5600 Ext. 7 \n  \n  \nThe NBIS Social Program is funded by the BC Brain Injury Alliance.
URL:https://nbis.ca/event/social-program-tbd-2026-03-19/2027-02-25/
LOCATION:Nanaimo Brain Injury Society\, #101 - 235 Bastion Street\, Nanaimo\, BC\, V9R 3A3\, Canada
CATEGORIES:Peer Support
ORGANIZER;CN="Nanaimo Brain Injury Society":MAILTO:community@nbis.ca
END:VEVENT
BEGIN:VEVENT
DTSTART;TZID=America/Vancouver:20270304T100000
DTEND;TZID=America/Vancouver:20270304T120000
DTSTAMP:20260420T051440
CREATED:20260128T234026Z
LAST-MODIFIED:20260326T174807Z
UID:23045-1804154400-1804161600@nbis.ca
SUMMARY:Social Program: TBD
DESCRIPTION:  \nFor more information\, or to register for an event\, please contact Groups Program Coordinator\, Samantha. \nEmail:  Groups@nbis.ca \nText:     250-268-5760 \nCall:      250-753-5600 Ext. 7 \n  \n  \nThe NBIS Social Program is funded by the BC Brain Injury Alliance.
URL:https://nbis.ca/event/social-program-tbd-2026-03-19/2027-03-04/
LOCATION:Nanaimo Brain Injury Society\, #101 - 235 Bastion Street\, Nanaimo\, BC\, V9R 3A3\, Canada
CATEGORIES:Peer Support
ORGANIZER;CN="Nanaimo Brain Injury Society":MAILTO:community@nbis.ca
END:VEVENT
BEGIN:VEVENT
DTSTART;TZID=America/Vancouver:20270311T100000
DTEND;TZID=America/Vancouver:20270311T120000
DTSTAMP:20260420T051440
CREATED:20260128T234026Z
LAST-MODIFIED:20260326T174807Z
UID:23046-1804759200-1804766400@nbis.ca
SUMMARY:Social Program: TBD
DESCRIPTION:  \nFor more information\, or to register for an event\, please contact Groups Program Coordinator\, Samantha. \nEmail:  Groups@nbis.ca \nText:     250-268-5760 \nCall:      250-753-5600 Ext. 7 \n  \n  \nThe NBIS Social Program is funded by the BC Brain Injury Alliance.
URL:https://nbis.ca/event/social-program-tbd-2026-03-19/2027-03-11/
LOCATION:Nanaimo Brain Injury Society\, #101 - 235 Bastion Street\, Nanaimo\, BC\, V9R 3A3\, Canada
CATEGORIES:Peer Support
ORGANIZER;CN="Nanaimo Brain Injury Society":MAILTO:community@nbis.ca
END:VEVENT
BEGIN:VEVENT
DTSTART;TZID=America/Vancouver:20270318T100000
DTEND;TZID=America/Vancouver:20270318T120000
DTSTAMP:20260420T051440
CREATED:20260128T234026Z
LAST-MODIFIED:20260326T174807Z
UID:23047-1805364000-1805371200@nbis.ca
SUMMARY:Social Program: TBD
DESCRIPTION:  \nFor more information\, or to register for an event\, please contact Groups Program Coordinator\, Samantha. \nEmail:  Groups@nbis.ca \nText:     250-268-5760 \nCall:      250-753-5600 Ext. 7 \n  \n  \nThe NBIS Social Program is funded by the BC Brain Injury Alliance.
URL:https://nbis.ca/event/social-program-tbd-2026-03-19/2027-03-18/
LOCATION:Nanaimo Brain Injury Society\, #101 - 235 Bastion Street\, Nanaimo\, BC\, V9R 3A3\, Canada
CATEGORIES:Peer Support
ORGANIZER;CN="Nanaimo Brain Injury Society":MAILTO:community@nbis.ca
END:VEVENT
BEGIN:VEVENT
DTSTART;TZID=America/Vancouver:20270325T100000
DTEND;TZID=America/Vancouver:20270325T120000
DTSTAMP:20260420T051440
CREATED:20260128T234026Z
LAST-MODIFIED:20260326T174807Z
UID:23048-1805968800-1805976000@nbis.ca
SUMMARY:Social Program: TBD
DESCRIPTION:  \nFor more information\, or to register for an event\, please contact Groups Program Coordinator\, Samantha. \nEmail:  Groups@nbis.ca \nText:     250-268-5760 \nCall:      250-753-5600 Ext. 7 \n  \n  \nThe NBIS Social Program is funded by the BC Brain Injury Alliance.
URL:https://nbis.ca/event/social-program-tbd-2026-03-19/2027-03-25/
LOCATION:Nanaimo Brain Injury Society\, #101 - 235 Bastion Street\, Nanaimo\, BC\, V9R 3A3\, Canada
CATEGORIES:Peer Support
ORGANIZER;CN="Nanaimo Brain Injury Society":MAILTO:community@nbis.ca
END:VEVENT
BEGIN:VEVENT
DTSTART;TZID=America/Vancouver:20270401T100000
DTEND;TZID=America/Vancouver:20270401T120000
DTSTAMP:20260420T051440
CREATED:20260128T234026Z
LAST-MODIFIED:20260326T174807Z
UID:23049-1806573600-1806580800@nbis.ca
SUMMARY:Social Program: TBD
DESCRIPTION:  \nFor more information\, or to register for an event\, please contact Groups Program Coordinator\, Samantha. \nEmail:  Groups@nbis.ca \nText:     250-268-5760 \nCall:      250-753-5600 Ext. 7 \n  \n  \nThe NBIS Social Program is funded by the BC Brain Injury Alliance.
URL:https://nbis.ca/event/social-program-tbd-2026-03-19/2027-04-01/
LOCATION:Nanaimo Brain Injury Society\, #101 - 235 Bastion Street\, Nanaimo\, BC\, V9R 3A3\, Canada
CATEGORIES:Peer Support
ORGANIZER;CN="Nanaimo Brain Injury Society":MAILTO:community@nbis.ca
END:VEVENT
BEGIN:VEVENT
DTSTART;TZID=America/Vancouver:20270408T100000
DTEND;TZID=America/Vancouver:20270408T120000
DTSTAMP:20260420T051440
CREATED:20260128T234026Z
LAST-MODIFIED:20260326T174807Z
UID:23050-1807178400-1807185600@nbis.ca
SUMMARY:Social Program: TBD
DESCRIPTION:  \nFor more information\, or to register for an event\, please contact Groups Program Coordinator\, Samantha. \nEmail:  Groups@nbis.ca \nText:     250-268-5760 \nCall:      250-753-5600 Ext. 7 \n  \n  \nThe NBIS Social Program is funded by the BC Brain Injury Alliance.
URL:https://nbis.ca/event/social-program-tbd-2026-03-19/2027-04-08/
LOCATION:Nanaimo Brain Injury Society\, #101 - 235 Bastion Street\, Nanaimo\, BC\, V9R 3A3\, Canada
CATEGORIES:Peer Support
ORGANIZER;CN="Nanaimo Brain Injury Society":MAILTO:community@nbis.ca
END:VEVENT
BEGIN:VEVENT
DTSTART;TZID=America/Vancouver:20270415T100000
DTEND;TZID=America/Vancouver:20270415T120000
DTSTAMP:20260420T051440
CREATED:20260128T234026Z
LAST-MODIFIED:20260326T213553Z
UID:23051-1807783200-1807790400@nbis.ca
SUMMARY:Social Program: TBD
DESCRIPTION:  \nFor more information\, or to register for an event\, please contact Groups Program Coordinator\, Samantha. \nEmail:  Groups@nbis.ca \nText:     250-268-5760 \nCall:      250-753-5600 Ext. 7 \n  \n  \nThe NBIS Social Program is funded by the BC Brain Injury Alliance.
URL:https://nbis.ca/event/social-program-tbd-2026-03-19/2027-04-15/
LOCATION:Nanaimo Brain Injury Society\, #101 - 235 Bastion Street\, Nanaimo\, BC\, V9R 3A3\, Canada
CATEGORIES:Peer Support
ORGANIZER;CN="Nanaimo Brain Injury Society":MAILTO:community@nbis.ca
END:VEVENT
BEGIN:VEVENT
DTSTART;TZID=America/Vancouver:20270422T100000
DTEND;TZID=America/Vancouver:20270422T120000
DTSTAMP:20260420T051440
CREATED:20260128T234026Z
LAST-MODIFIED:20260326T213553Z
UID:23052-1808388000-1808395200@nbis.ca
SUMMARY:Social Program: TBD
DESCRIPTION:  \nFor more information\, or to register for an event\, please contact Groups Program Coordinator\, Samantha. \nEmail:  Groups@nbis.ca \nText:     250-268-5760 \nCall:      250-753-5600 Ext. 7 \n  \n  \nThe NBIS Social Program is funded by the BC Brain Injury Alliance.
URL:https://nbis.ca/event/social-program-tbd-2026-03-19/2027-04-22/
LOCATION:Nanaimo Brain Injury Society\, #101 - 235 Bastion Street\, Nanaimo\, BC\, V9R 3A3\, Canada
CATEGORIES:Peer Support
ORGANIZER;CN="Nanaimo Brain Injury Society":MAILTO:community@nbis.ca
END:VEVENT
BEGIN:VEVENT
DTSTART;TZID=America/Vancouver:20270429T100000
DTEND;TZID=America/Vancouver:20270429T120000
DTSTAMP:20260420T051440
CREATED:20260128T234026Z
LAST-MODIFIED:20260326T213553Z
UID:23053-1808992800-1809000000@nbis.ca
SUMMARY:Social Program: TBD
DESCRIPTION:  \nFor more information\, or to register for an event\, please contact Groups Program Coordinator\, Samantha. \nEmail:  Groups@nbis.ca \nText:     250-268-5760 \nCall:      250-753-5600 Ext. 7 \n  \n  \nThe NBIS Social Program is funded by the BC Brain Injury Alliance.
URL:https://nbis.ca/event/social-program-tbd-2026-03-19/2027-04-29/
LOCATION:Nanaimo Brain Injury Society\, #101 - 235 Bastion Street\, Nanaimo\, BC\, V9R 3A3\, Canada
CATEGORIES:Peer Support
ORGANIZER;CN="Nanaimo Brain Injury Society":MAILTO:community@nbis.ca
END:VEVENT
BEGIN:VEVENT
DTSTART;TZID=America/Vancouver:20270506T100000
DTEND;TZID=America/Vancouver:20270506T120000
DTSTAMP:20260420T051440
CREATED:20260128T234026Z
LAST-MODIFIED:20260326T213553Z
UID:23054-1809597600-1809604800@nbis.ca
SUMMARY:Social Program: TBD
DESCRIPTION:  \nFor more information\, or to register for an event\, please contact Groups Program Coordinator\, Samantha. \nEmail:  Groups@nbis.ca \nText:     250-268-5760 \nCall:      250-753-5600 Ext. 7 \n  \n  \nThe NBIS Social Program is funded by the BC Brain Injury Alliance.
URL:https://nbis.ca/event/social-program-tbd-2026-03-19/2027-05-06/
LOCATION:Nanaimo Brain Injury Society\, #101 - 235 Bastion Street\, Nanaimo\, BC\, V9R 3A3\, Canada
CATEGORIES:Peer Support
ORGANIZER;CN="Nanaimo Brain Injury Society":MAILTO:community@nbis.ca
END:VEVENT
BEGIN:VEVENT
DTSTART;TZID=America/Vancouver:20270513T100000
DTEND;TZID=America/Vancouver:20270513T120000
DTSTAMP:20260420T051440
CREATED:20260128T234026Z
LAST-MODIFIED:20260326T213553Z
UID:23055-1810202400-1810209600@nbis.ca
SUMMARY:Social Program: TBD
DESCRIPTION:  \nFor more information\, or to register for an event\, please contact Groups Program Coordinator\, Samantha. \nEmail:  Groups@nbis.ca \nText:     250-268-5760 \nCall:      250-753-5600 Ext. 7 \n  \n  \nThe NBIS Social Program is funded by the BC Brain Injury Alliance.
URL:https://nbis.ca/event/social-program-tbd-2026-03-19/2027-05-13/
LOCATION:Nanaimo Brain Injury Society\, #101 - 235 Bastion Street\, Nanaimo\, BC\, V9R 3A3\, Canada
CATEGORIES:Peer Support
ORGANIZER;CN="Nanaimo Brain Injury Society":MAILTO:community@nbis.ca
END:VEVENT
END:VCALENDAR